BEGIN:VCALENDAR
VERSION:2.0
PRODID:-//Tango &amp; Milongas in Beirut Lebanon - ECPv6.15.20//NONSGML v1.0//EN
CALSCALE:GREGORIAN
METHOD:PUBLISH
X-WR-CALNAME:Tango &amp; Milongas in Beirut Lebanon
X-ORIGINAL-URL:https://alivetangofromlebanon.com
X-WR-CALDESC:Events for Tango &amp; Milongas in Beirut Lebanon
REFRESH-INTERVAL;VALUE=DURATION:PT1H
X-Robots-Tag:noindex
X-PUBLISHED-TTL:PT1H
BEGIN:VTIMEZONE
TZID:Europe/Helsinki
BEGIN:DAYLIGHT
TZOFFSETFROM:+0200
TZOFFSETTO:+0300
TZNAME:EEST
DTSTART:20240331T010000
END:DAYLIGHT
BEGIN:STANDARD
TZOFFSETFROM:+0300
TZOFFSETTO:+0200
TZNAME:EET
DTSTART:20241027T010000
END:STANDARD
BEGIN:DAYLIGHT
TZOFFSETFROM:+0200
TZOFFSETTO:+0300
TZNAME:EEST
DTSTART:20250330T010000
END:DAYLIGHT
BEGIN:STANDARD
TZOFFSETFROM:+0300
TZOFFSETTO:+0200
TZNAME:EET
DTSTART:20251026T010000
END:STANDARD
BEGIN:DAYLIGHT
TZOFFSETFROM:+0200
TZOFFSETTO:+0300
TZNAME:EEST
DTSTART:20260329T010000
END:DAYLIGHT
BEGIN:STANDARD
TZOFFSETFROM:+0300
TZOFFSETTO:+0200
TZNAME:EET
DTSTART:20261025T010000
END:STANDARD
END:VTIMEZONE
BEGIN:VEVENT
DTSTART;VALUE=DATE:20250623
DTEND;VALUE=DATE:20250624
DTSTAMP:20260425T063609
CREATED:20250609T072243Z
LAST-MODIFIED:20250609T072243Z
UID:2719-1750636800-1750723199@alivetangofromlebanon.com
SUMMARY:Milonga de Los Lunes 23/06/2025
DESCRIPTION:Regular Milonga organized each Monday for 19 years non-stop \nFrom 9:15 pm To 12:00 am \nAddress: TANGO CLOSET \nLocation: Please click Here
URL:https://alivetangofromlebanon.com/event/milonga-de-los-lunes-23-06-2025/
END:VEVENT
BEGIN:VEVENT
DTSTART;VALUE=DATE:20250622
DTEND;VALUE=DATE:20250623
DTSTAMP:20260425T063609
CREATED:20250519T122937Z
LAST-MODIFIED:20250621T163006Z
UID:2659-1750550400-1750636799@alivetangofromlebanon.com
SUMMARY:Primavera 2025 Milonga 22/06/2025
DESCRIPTION:Primavera Tango Bootcamp with Agostina TARCHINI (20 – 22 June 2025) \n(Event Postponed) \n \nInternational Tango DJ: Olga KATSARA (Greece) \n \n  \nAddress: Star Dance Academy (Dbayeh 955-B Building 1st Floor Behind le Mall) \nLocation: Please click Here \n 
URL:https://alivetangofromlebanon.com/event/primavera-2025-milonga-22-06-2025/
END:VEVENT
BEGIN:VEVENT
DTSTART;VALUE=DATE:20250621
DTEND;VALUE=DATE:20250622
DTSTAMP:20260425T063609
CREATED:20250519T120013Z
LAST-MODIFIED:20250621T162935Z
UID:2654-1750464000-1750550399@alivetangofromlebanon.com
SUMMARY:Primavera 2025 Tango Bal 21/06/2025
DESCRIPTION:Primavera Tango Bootcamp with Agostina TARCHINI (20 – 22 June 2025) \n(Event Postponed) \n \nInternational Tango DJ: Emrah UÇAR (Turkey) \n \n  \nAddress: Star Dance Academy (Dbayeh 955-B Building 1st Floor Behind le Mall) \nLocation: Please click Here \n 
URL:https://alivetangofromlebanon.com/event/primavera-2025-tango-bal-21-06-2025/
END:VEVENT
BEGIN:VEVENT
DTSTART;VALUE=DATE:20250620
DTEND;VALUE=DATE:20250621
DTSTAMP:20260425T063609
CREATED:20250519T114624Z
LAST-MODIFIED:20250621T162855Z
UID:2648-1750377600-1750463999@alivetangofromlebanon.com
SUMMARY:Primavera 2025 Milonga 20/06/2025
DESCRIPTION:Primavera Tango Bootcamp with Agostina TARCHINI (20 – 22 June 2025) \n(Event Postponed) \n \nTango DJ: Alma HADDAD (Lebanon) \n \n  \nAddress: Etica Beirut Aparthotel (Bauchrieh\, Zone bleue\, New Hankach street nb 3. /11) \nLocation: Please click Here
URL:https://alivetangofromlebanon.com/event/primavera-2025-milonga-20-06-2025/
END:VEVENT
BEGIN:VEVENT
DTSTART;VALUE=DATE:20250616
DTEND;VALUE=DATE:20250617
DTSTAMP:20260425T063609
CREATED:20250519T113230Z
LAST-MODIFIED:20250519T113230Z
UID:2639-1750032000-1750118399@alivetangofromlebanon.com
SUMMARY:Milonga de Los Lunes 16/06/2025
DESCRIPTION:Regular Milonga organized each Monday for 19 years non-stop \nFrom 9:15 pm To 12:00 am \nAddress: TANGO CLOSET \nLocation: Please click Here
URL:https://alivetangofromlebanon.com/event/milonga-de-los-lunes-16-06-2025/
END:VEVENT
BEGIN:VEVENT
DTSTART;VALUE=DATE:20250615
DTEND;VALUE=DATE:20250616
DTSTAMP:20260425T063609
CREATED:20250519T112649Z
LAST-MODIFIED:20250519T112649Z
UID:2633-1749945600-1750031999@alivetangofromlebanon.com
SUMMARY:Salon Beyrouth Milonga 15/06/2025
DESCRIPTION:Regular Milonga organized the 1st and 3rd Sunday of each month \nFrom 7:00 pm To 12:00 am \nDressing code: Smart Casual \nAddress: Salon Beyrouth\, Clemenceau \nLocation: Please click Here \nWe offer the Tango Community an outstanding music experience. DJs are carefully selected and each Milonga is a unique musical selection. The magic of this Milonga could be shared by anyone who is looking to spend a nice Sunday evening watching people dance\, listening to a romantic Waltz\, a nostalgic Tango or a playful Milonga while enjoying a meal & drinks.
URL:https://alivetangofromlebanon.com/event/salon-beyrouth-milonga-15-06-2025/
ORGANIZER;CN="Beirutango in collaboration with MKDA":MAILTO:mazenkiwan@gmail.com
END:VEVENT
BEGIN:VEVENT
DTSTART;VALUE=DATE:20250609
DTEND;VALUE=DATE:20250610
DTSTAMP:20260425T063609
CREATED:20250519T113118Z
LAST-MODIFIED:20250519T113118Z
UID:2637-1749427200-1749513599@alivetangofromlebanon.com
SUMMARY:Milonga de Los Lunes 09/06/2025
DESCRIPTION:Regular Milonga organized each Monday for 19 years non-stop \nFrom 9:15 pm To 12:00 am \nAddress: TANGO CLOSET \nLocation: Please click Here
URL:https://alivetangofromlebanon.com/event/milonga-de-los-lunes-09-06-2025/
END:VEVENT
BEGIN:VEVENT
DTSTART;VALUE=DATE:20250608
DTEND;VALUE=DATE:20250609
DTSTAMP:20260425T063609
CREATED:20250519T112859Z
LAST-MODIFIED:20250519T112859Z
UID:2635-1749340800-1749427199@alivetangofromlebanon.com
SUMMARY:Milonga Night 08/06/2025
DESCRIPTION:Regular Milonga organized the 2nd Sunday of each month \nFrom 9:00 pm To 12:00 am \nParticipation Fees: 5$ including water & 1 cup of wine \nTDJ: Tony RIZK \nAddress: Lebanon Dance Academy (The Cosmopolitan Hotel – The Private Club – City Rama street – Dekwene) \nLocation: Please contact the organizer
URL:https://alivetangofromlebanon.com/event/milonga-night-08-06-2025/
ORGANIZER;CN="Lebanon Dance Academy":MAILTO:yves.samaha@gmail.com
END:VEVENT
BEGIN:VEVENT
DTSTART;VALUE=DATE:20250606
DTEND;VALUE=DATE:20250607
DTSTAMP:20260425T063609
CREATED:20250519T113652Z
LAST-MODIFIED:20250605T143029Z
UID:2643-1749168000-1749254399@alivetangofromlebanon.com
SUMMARY:La Milonga Etica 06/06/2025
DESCRIPTION:Regular Milonga organized the 2nd and 4th Friday of each month \nFrom 8:30 pm To 1:30 am \nParticipation Fee: 10$ including one drink \nAddress: Etica Beirut Aparthotel (Bauchrieh\, Zone bleue\, New Hankach street nb 3. /11) \nLocation: Please click Here
URL:https://alivetangofromlebanon.com/event/la-milonga-etica-06-06-2025/
ORGANIZER;CN="Walid EL HAJJ":MAILTO:innbuilding@gmail.com
END:VEVENT
BEGIN:VEVENT
DTSTART;VALUE=DATE:20250602
DTEND;VALUE=DATE:20250603
DTSTAMP:20260425T063609
CREATED:20250519T112340Z
LAST-MODIFIED:20250519T112340Z
UID:2629-1748822400-1748908799@alivetangofromlebanon.com
SUMMARY:Milonga de Los Lunes 02/06/2025
DESCRIPTION:Regular Milonga organized each Monday for 19 years non-stop \nFrom 9:15 pm To 12:00 am \nAddress: TANGO CLOSET \nLocation: Please click Here
URL:https://alivetangofromlebanon.com/event/milonga-de-los-lunes-02-06-2025/
END:VEVENT
BEGIN:VEVENT
DTSTART;VALUE=DATE:20250601
DTEND;VALUE=DATE:20250602
DTSTAMP:20260425T063609
CREATED:20250519T112545Z
LAST-MODIFIED:20250519T112545Z
UID:2631-1748736000-1748822399@alivetangofromlebanon.com
SUMMARY:Salon Beyrouth Milonga 01/06/2025
DESCRIPTION:Regular Milonga organized the 1st and 3rd Sunday of each month \nFrom 7:00 pm To 12:00 am \nDressing code: Smart Casual \nAddress: Salon Beyrouth\, Clemenceau \nLocation: Please click Here \nWe offer the Tango Community an outstanding music experience. DJs are carefully selected and each Milonga is a unique musical selection. The magic of this Milonga could be shared by anyone who is looking to spend a nice Sunday evening watching people dance\, listening to a romantic Waltz\, a nostalgic Tango or a playful Milonga while enjoying a meal & drinks.
URL:https://alivetangofromlebanon.com/event/salon-beyrouth-milonga-01-06-2025/
ORGANIZER;CN="Beirutango in collaboration with MKDA":MAILTO:mazenkiwan@gmail.com
END:VEVENT
BEGIN:VEVENT
DTSTART;VALUE=DATE:20250526
DTEND;VALUE=DATE:20250527
DTSTAMP:20260425T063609
CREATED:20250326T151613Z
LAST-MODIFIED:20250326T151613Z
UID:2362-1748217600-1748303999@alivetangofromlebanon.com
SUMMARY:Milonga de Los Lunes 26/05/2025
DESCRIPTION:Regular Milonga organized each Monday for 19 years non-stop \nFrom 9:15 pm To 12:00 am \nAddress: TANGO CLOSET \nLocation: Please click Here
URL:https://alivetangofromlebanon.com/event/milonga-de-los-lunes-26-05-2025/
END:VEVENT
BEGIN:VEVENT
DTSTART;VALUE=DATE:20250523
DTEND;VALUE=DATE:20250524
DTSTAMP:20260425T063609
CREATED:20250412T053900Z
LAST-MODIFIED:20250412T053900Z
UID:2412-1747958400-1748044799@alivetangofromlebanon.com
SUMMARY:La Milonga Etica 23/05/2025
DESCRIPTION:Regular Milonga organized the 2nd and 4th Friday of each month \nFrom 8:30 pm To 1:30 am \nParticipation Fee: 10$ including one drink \nAddress: Etica Beirut Aparthotel (Bauchrieh\, Zone bleue\, New Hankach street nb 3. /11) \nLocation: Please click Here
URL:https://alivetangofromlebanon.com/event/la-milonga-etica-23-05-2025/
ORGANIZER;CN="Walid EL HAJJ":MAILTO:innbuilding@gmail.com
END:VEVENT
BEGIN:VEVENT
DTSTART;VALUE=DATE:20250519
DTEND;VALUE=DATE:20250520
DTSTAMP:20260425T063609
CREATED:20250326T151521Z
LAST-MODIFIED:20250326T151521Z
UID:2360-1747612800-1747699199@alivetangofromlebanon.com
SUMMARY:Milonga de Los Lunes 19/05/2025
DESCRIPTION:Regular Milonga organized each Monday for 19 years non-stop \nFrom 9:15 pm To 12:00 am \nAddress: TANGO CLOSET \nLocation: Please click Here
URL:https://alivetangofromlebanon.com/event/milonga-de-los-lunes-19-05-2025/
END:VEVENT
BEGIN:VEVENT
DTSTART;VALUE=DATE:20250518
DTEND;VALUE=DATE:20250519
DTSTAMP:20260425T063609
CREATED:20250326T151211Z
LAST-MODIFIED:20250326T151211Z
UID:2353-1747526400-1747612799@alivetangofromlebanon.com
SUMMARY:Salon Beyrouth Milonga 18/05/2025
DESCRIPTION:Regular Milonga organized the 1st and 3rd Sunday of each month \nFrom 7:00 pm To 12:00 am \nDressing code: Smart Casual \nAddress: Salon Beyrouth\, Clemenceau \nLocation: Please click Here \nWe offer the Tango Community an outstanding music experience. DJs are carefully selected and each Milonga is a unique musical selection. The magic of this Milonga could be shared by anyone who is looking to spend a nice Sunday evening watching people dance\, listening to a romantic Waltz\, a nostalgic Tango or a playful Milonga while enjoying a meal & drinks.
URL:https://alivetangofromlebanon.com/event/salon-beyrouth-milonga-18-05-2025/
ORGANIZER;CN="Beirutango in collaboration with MKDA":MAILTO:mazenkiwan@gmail.com
END:VEVENT
BEGIN:VEVENT
DTSTART;VALUE=DATE:20250515
DTEND;VALUE=DATE:20250516
DTSTAMP:20260425T063609
CREATED:20250429T064406Z
LAST-MODIFIED:20250429T073236Z
UID:2450-1747267200-1747353599@alivetangofromlebanon.com
SUMMARY:Milonga Pulse 15/05/2025
DESCRIPTION:Regular Milonga organized once a month \nFrom 8:30 pm To 12:30 am \nParticipation Fee: 10$ (including one regular drink) \nAddress: Abajour\, Karam Rahal street – Adlieh\, Beirut \nLocation: Please click Here
URL:https://alivetangofromlebanon.com/event/milonga-pulse-15-05-2025/
ORGANIZER;CN="Shant Chilingirian":MAILTO:Shant.d.chilingirian@gmail.com
END:VEVENT
BEGIN:VEVENT
DTSTART;VALUE=DATE:20250512
DTEND;VALUE=DATE:20250513
DTSTAMP:20260425T063609
CREATED:20250326T151413Z
LAST-MODIFIED:20250326T151413Z
UID:2358-1747008000-1747094399@alivetangofromlebanon.com
SUMMARY:Milonga de Los Lunes 12/05/2025
DESCRIPTION:Regular Milonga organized each Monday for 19 years non-stop \nFrom 9:15 pm To 12:00 am \nAddress: TANGO CLOSET \nLocation: Please click Here
URL:https://alivetangofromlebanon.com/event/milonga-de-los-lunes-12-05-2025/
END:VEVENT
BEGIN:VEVENT
DTSTART;VALUE=DATE:20250511
DTEND;VALUE=DATE:20250512
DTSTAMP:20260425T063609
CREATED:20250330T095922Z
LAST-MODIFIED:20250519T110707Z
UID:2384-1746921600-1747007999@alivetangofromlebanon.com
SUMMARY:Milonga Night 11/05/2025
DESCRIPTION:Regular Milonga organized the 2nd Sunday of each month \nFrom 9:00 pm To 12:00 am \nParticipation Fees: LBP 300000 including water & 1 cup of wine \nTDJ: Tony RIZK \nAddress: Lebanon Dance Academy (The Cosmopolitan Hotel – The Private Club – City Rama street – Dekwene) \nLocation: Please contact the organizer
URL:https://alivetangofromlebanon.com/event/milonga-night-11-05-2025/
ORGANIZER;CN="Lebanon Dance Academy":MAILTO:yves.samaha@gmail.com
END:VEVENT
BEGIN:VEVENT
DTSTART;VALUE=DATE:20250509
DTEND;VALUE=DATE:20250510
DTSTAMP:20260425T063609
CREATED:20250412T053707Z
LAST-MODIFIED:20250412T053707Z
UID:2410-1746748800-1746835199@alivetangofromlebanon.com
SUMMARY:La Milonga Etica 9/05/2025
DESCRIPTION:Regular Milonga organized the 2nd and 4th Friday of each month \nFrom 8:30 pm To 1:30 am \nParticipation Fee: 10$ including one drink \nAddress: Etica Beirut Aparthotel (Bauchrieh\, Zone bleue\, New Hankach street nb 3. /11) \nLocation: Please click Here
URL:https://alivetangofromlebanon.com/event/la-milonga-etica-9-05-2025/
ORGANIZER;CN="Walid EL HAJJ":MAILTO:innbuilding@gmail.com
END:VEVENT
BEGIN:VEVENT
DTSTART;VALUE=DATE:20250505
DTEND;VALUE=DATE:20250506
DTSTAMP:20260425T063609
CREATED:20250326T151321Z
LAST-MODIFIED:20250326T151321Z
UID:2355-1746403200-1746489599@alivetangofromlebanon.com
SUMMARY:Milonga de Los Lunes 05/05/2025
DESCRIPTION:Regular Milonga organized each Monday for 19 years non-stop \nFrom 9:15 pm To 12:00 am \nAddress: TANGO CLOSET \nLocation: Please click Here
URL:https://alivetangofromlebanon.com/event/milonga-de-los-lunes-05-05-2025/
END:VEVENT
BEGIN:VEVENT
DTSTART;VALUE=DATE:20250504
DTEND;VALUE=DATE:20250505
DTSTAMP:20260425T063609
CREATED:20250326T151113Z
LAST-MODIFIED:20250326T151113Z
UID:2351-1746316800-1746403199@alivetangofromlebanon.com
SUMMARY:Salon Beyrouth Milonga 04/05/2025
DESCRIPTION:Regular Milonga organized the 1st and 3rd Sunday of each month \nFrom 7:00 pm To 12:00 am \nDressing code: Smart Casual \nAddress: Salon Beyrouth\, Clemenceau \nLocation: Please click Here \nWe offer the Tango Community an outstanding music experience. DJs are carefully selected and each Milonga is a unique musical selection. The magic of this Milonga could be shared by anyone who is looking to spend a nice Sunday evening watching people dance\, listening to a romantic Waltz\, a nostalgic Tango or a playful Milonga while enjoying a meal & drinks.
URL:https://alivetangofromlebanon.com/event/salon-beyrouth-milonga-04-05-2025/
ORGANIZER;CN="Beirutango in collaboration with MKDA":MAILTO:mazenkiwan@gmail.com
END:VEVENT
BEGIN:VEVENT
DTSTART;VALUE=DATE:20250428
DTEND;VALUE=DATE:20250429
DTSTAMP:20260425T063609
CREATED:20250303T090509Z
LAST-MODIFIED:20250303T090509Z
UID:2251-1745798400-1745884799@alivetangofromlebanon.com
SUMMARY:Milonga de Los Lunes 28/04/2025
DESCRIPTION:Regular Milonga organized each Monday for 19 years non-stop \nFrom 9:15 pm To 12:00 am \nAddress: TANGO CLOSET \nLocation: Please click Here
URL:https://alivetangofromlebanon.com/event/milonga-de-los-lunes-28-04-2025/
END:VEVENT
BEGIN:VEVENT
DTSTART;VALUE=DATE:20250425
DTEND;VALUE=DATE:20250426
DTSTAMP:20260425T063609
CREATED:20250409T100806Z
LAST-MODIFIED:20250412T053357Z
UID:2390-1745539200-1745625599@alivetangofromlebanon.com
SUMMARY:La Milonga Etica 25/04/2025
DESCRIPTION:Regular Milonga organized the 2nd and 4th Friday of each month \nFrom 8:30 pm To 1:30 am \nParticipation Fee: 10$ including one drink \nAddress: Etica Beirut Aparthotel (Bauchrieh\, Zone bleue\, New Hankach street nb 3. /11) \nLocation: Please click Here
URL:https://alivetangofromlebanon.com/event/la-milonga-etica-25-04-2025/
ORGANIZER;CN="Walid EL HAJJ":MAILTO:innbuilding@gmail.com
END:VEVENT
BEGIN:VEVENT
DTSTART;VALUE=DATE:20250421
DTEND;VALUE=DATE:20250422
DTSTAMP:20260425T063609
CREATED:20250303T090425Z
LAST-MODIFIED:20250303T090425Z
UID:2249-1745193600-1745279999@alivetangofromlebanon.com
SUMMARY:Milonga de Los Lunes 21/04/2025
DESCRIPTION:Regular Milonga organized each Monday for 19 years non-stop \nFrom 9:15 pm To 12:00 am \nAddress: TANGO CLOSET \nLocation: Please click Here
URL:https://alivetangofromlebanon.com/event/milonga-de-los-lunes-21-04-2025/
END:VEVENT
BEGIN:VEVENT
DTSTART;VALUE=DATE:20250420
DTEND;VALUE=DATE:20250421
DTSTAMP:20260425T063609
CREATED:20250303T090125Z
LAST-MODIFIED:20250303T090125Z
UID:2243-1745107200-1745193599@alivetangofromlebanon.com
SUMMARY:Salon Beyrouth Milonga 20/04/2025
DESCRIPTION:Regular Milonga organized the 1st and 3rd Sunday of each month \nFrom 7:00 pm To 12:00 am \nDressing code: Smart Casual \nAddress: Salon Beyrouth\, Clemenceau \nLocation: Please click Here \nWe offer the Tango Community an outstanding music experience. DJs are carefully selected and each Milonga is a unique musical selection. The magic of this Milonga could be shared by anyone who is looking to spend a nice Sunday evening watching people dance\, listening to a romantic Waltz\, a nostalgic Tango or a playful Milonga while enjoying a meal & drinks.
URL:https://alivetangofromlebanon.com/event/salon-beyrouth-milonga-20-04-2025/
ORGANIZER;CN="Beirutango in collaboration with MKDA":MAILTO:mazenkiwan@gmail.com
END:VEVENT
BEGIN:VEVENT
DTSTART;VALUE=DATE:20250414
DTEND;VALUE=DATE:20250415
DTSTAMP:20260425T063609
CREATED:20250303T090341Z
LAST-MODIFIED:20250303T090341Z
UID:2247-1744588800-1744675199@alivetangofromlebanon.com
SUMMARY:Milonga de Los Lunes 14/04/2025
DESCRIPTION:Regular Milonga organized each Monday for 19 years non-stop \nFrom 9:15 pm To 12:00 am \nAddress: TANGO CLOSET \nLocation: Please click Here
URL:https://alivetangofromlebanon.com/event/milonga-de-los-lunes-14-04-2025/
END:VEVENT
BEGIN:VEVENT
DTSTART;VALUE=DATE:20250413
DTEND;VALUE=DATE:20250414
DTSTAMP:20260425T063609
CREATED:20250330T095747Z
LAST-MODIFIED:20250330T095747Z
UID:2382-1744502400-1744588799@alivetangofromlebanon.com
SUMMARY:Milonga Night 13/04/2025
DESCRIPTION:Regular Milonga organized the 2nd Sunday of each month \nFrom 9:00 pm To 12:00 am \nParticipation Fees: LBP 300000 including water & 1 cup of wine \nTDJ: Tony RIZK \nAddress: Lebanon Dance Academy (The Cosmopolitan Hotel – The Private Club – City Rama street – Dekwene) \nLocation: Please contact the organizer
URL:https://alivetangofromlebanon.com/event/milonga-night-13-04-2025/
ORGANIZER;CN="Lebanon Dance Academy":MAILTO:yves.samaha@gmail.com
END:VEVENT
BEGIN:VEVENT
DTSTART;VALUE=DATE:20250411
DTEND;VALUE=DATE:20250412
DTSTAMP:20260425T063609
CREATED:20250409T100650Z
LAST-MODIFIED:20250412T053508Z
UID:2388-1744329600-1744415999@alivetangofromlebanon.com
SUMMARY:La Milonga Etica 11/04/2025
DESCRIPTION:Regular Milonga organized the 2nd and 4th Friday of each month \nFrom 8:30 pm To 1:30 am \nParticipation Fee: 10$ including one drink \nAddress: Etica Beirut Aparthotel (Bauchrieh\, Zone bleue\, New Hankach street nb 3. /11) \nLocation: Please click Here
URL:https://alivetangofromlebanon.com/event/la-milonga-etica-11-04-2025/
ORGANIZER;CN="Walid EL HAJJ":MAILTO:innbuilding@gmail.com
END:VEVENT
BEGIN:VEVENT
DTSTART;VALUE=DATE:20250407
DTEND;VALUE=DATE:20250408
DTSTAMP:20260425T063609
CREATED:20250303T090253Z
LAST-MODIFIED:20250303T090253Z
UID:2245-1743984000-1744070399@alivetangofromlebanon.com
SUMMARY:Milonga de Los Lunes 07/04/2025
DESCRIPTION:Regular Milonga organized each Monday for 19 years non-stop \nFrom 9:15 pm To 12:00 am \nAddress: TANGO CLOSET \nLocation: Please click Here
URL:https://alivetangofromlebanon.com/event/milonga-de-los-lunes-07-04-2025/
END:VEVENT
BEGIN:VEVENT
DTSTART;VALUE=DATE:20250406
DTEND;VALUE=DATE:20250407
DTSTAMP:20260425T063609
CREATED:20250303T090002Z
LAST-MODIFIED:20250303T090002Z
UID:2241-1743897600-1743983999@alivetangofromlebanon.com
SUMMARY:Salon Beyrouth Milonga 06/04/2025
DESCRIPTION:Regular Milonga organized the 1st and 3rd Sunday of each month \nFrom 7:00 pm To 12:00 am \nDressing code: Smart Casual \nAddress: Salon Beyrouth\, Clemenceau \nLocation: Please click Here \nWe offer the Tango Community an outstanding music experience. DJs are carefully selected and each Milonga is a unique musical selection. The magic of this Milonga could be shared by anyone who is looking to spend a nice Sunday evening watching people dance\, listening to a romantic Waltz\, a nostalgic Tango or a playful Milonga while enjoying a meal & drinks.
URL:https://alivetangofromlebanon.com/event/salon-beyrouth-milonga-06-04-2025/
ORGANIZER;CN="Beirutango in collaboration with MKDA":MAILTO:mazenkiwan@gmail.com
END:VEVENT
END:VCALENDAR