BEGIN:VCALENDAR
VERSION:2.0
PRODID:-//Tango &amp; Milongas in Beirut Lebanon - ECPv6.15.20//NONSGML v1.0//EN
CALSCALE:GREGORIAN
METHOD:PUBLISH
X-WR-CALNAME:Tango &amp; Milongas in Beirut Lebanon
X-ORIGINAL-URL:https://alivetangofromlebanon.com
X-WR-CALDESC:Events for Tango &amp; Milongas in Beirut Lebanon
REFRESH-INTERVAL;VALUE=DURATION:PT1H
X-Robots-Tag:noindex
X-PUBLISHED-TTL:PT1H
BEGIN:VTIMEZONE
TZID:Europe/Helsinki
BEGIN:DAYLIGHT
TZOFFSETFROM:+0200
TZOFFSETTO:+0300
TZNAME:EEST
DTSTART:20240331T010000
END:DAYLIGHT
BEGIN:STANDARD
TZOFFSETFROM:+0300
TZOFFSETTO:+0200
TZNAME:EET
DTSTART:20241027T010000
END:STANDARD
BEGIN:DAYLIGHT
TZOFFSETFROM:+0200
TZOFFSETTO:+0300
TZNAME:EEST
DTSTART:20250330T010000
END:DAYLIGHT
BEGIN:STANDARD
TZOFFSETFROM:+0300
TZOFFSETTO:+0200
TZNAME:EET
DTSTART:20251026T010000
END:STANDARD
BEGIN:DAYLIGHT
TZOFFSETFROM:+0200
TZOFFSETTO:+0300
TZNAME:EEST
DTSTART:20260329T010000
END:DAYLIGHT
BEGIN:STANDARD
TZOFFSETFROM:+0300
TZOFFSETTO:+0200
TZNAME:EET
DTSTART:20261025T010000
END:STANDARD
END:VTIMEZONE
BEGIN:VEVENT
DTSTART;VALUE=DATE:20250902
DTEND;VALUE=DATE:20250903
DTSTAMP:20260425T033433
CREATED:20250831T070609Z
LAST-MODIFIED:20250831T070609Z
UID:2908-1756771200-1756857599@alivetangofromlebanon.com
SUMMARY:Practilonga Hanine 02/09/2025
DESCRIPTION:Regular Milonga organized twice a month on Tuesday \nFrom 8:30 pm To 1:00 am \nParticipation Fees: 10 $ \nAddress: Hanine Beirut\, St Joseph University\, Beirut 1100 \nLocation: Please click Here \nWe’re opening the floor to warmly welcome the newest members of our tango community\, dance and connect.\nWhether you’re new or long-time dancers\, come share the embrace.
URL:https://alivetangofromlebanon.com/event/practilonga-hanine-02-09-2025/
ORGANIZER;CN="Beirutango in collaboration with MKDA":MAILTO:mazenkiwan@gmail.com
END:VEVENT
BEGIN:VEVENT
DTSTART;VALUE=DATE:20250901
DTEND;VALUE=DATE:20250902
DTSTAMP:20260425T033433
CREATED:20250825T161724Z
LAST-MODIFIED:20250825T161724Z
UID:2892-1756684800-1756771199@alivetangofromlebanon.com
SUMMARY:Milonga de Los Lunes 01/09/2025
DESCRIPTION:Regular Milonga organized each Monday for 19 years non-stop \nFrom 9:15 pm To 12:00 am \nParticipation Fees: 300 000 LBP \nAddress: TANGO CLOSET \nLocation: Please click Here
URL:https://alivetangofromlebanon.com/event/milonga-de-los-lunes-01-09-2025/
END:VEVENT
BEGIN:VEVENT
DTSTART;VALUE=DATE:20250829
DTEND;VALUE=DATE:20250830
DTSTAMP:20260425T033433
CREATED:20250806T040611Z
LAST-MODIFIED:20250820T120749Z
UID:2881-1756425600-1756511999@alivetangofromlebanon.com
SUMMARY:La Milonga Etica 29/08/2025
DESCRIPTION:Regular Milonga organized twice a month \nFrom 8:30 pm To 1:30 am \nParticipation Fee: 10 $ including one drink \nAddress: Etica Beirut Aparthotel (Bauchrieh\, Zone bleue\, New Hankach street nb 3. /11) \nLocation: Please click Here
URL:https://alivetangofromlebanon.com/event/la-milonga-etica-29-08-2025/
ORGANIZER;CN="Walid EL HAJJ":MAILTO:innbuilding@gmail.com
END:VEVENT
BEGIN:VEVENT
DTSTART;VALUE=DATE:20250827
DTEND;VALUE=DATE:20250828
DTSTAMP:20260425T033433
CREATED:20250720T120841Z
LAST-MODIFIED:20250720T120841Z
UID:2849-1756252800-1756339199@alivetangofromlebanon.com
SUMMARY:Milonga Night 27/08/2025
DESCRIPTION:Regular Milonga Workshop & Party organized the 2nd Sunday and 4th Wednesday of each month \nFrom 8:00 pm To 9:00 pm: Milonga Workshop given by Ivan & Sandrine \nMilonga Workshop Participation Fees: 300000 LBP including water \nFrom 9:00 pm To 12:00 am: Milonga Party \nMilonga Party Participation Fees: 300000 LBP including water \nTDJ: Tony RIZK \nAddress: Lebanon Dance Academy (The Cosmopolitan Hotel – The Private Club – City Rama street – Dekwene) \nLocation: Please contact the organizer
URL:https://alivetangofromlebanon.com/event/milonga-night-27-08-2025/
ORGANIZER;CN="Lebanon Dance Academy":MAILTO:yves.samaha@gmail.com
END:VEVENT
BEGIN:VEVENT
DTSTART;VALUE=DATE:20250826
DTEND;VALUE=DATE:20250827
DTSTAMP:20260425T033433
CREATED:20250720T120435Z
LAST-MODIFIED:20250809T074229Z
UID:2845-1756166400-1756252799@alivetangofromlebanon.com
SUMMARY:Milonga La Mirada 26/08/2025
DESCRIPTION:Regular Milonga organized the 2nd Wednesday of each month \nClass with Karim: From 7:00 pm To 8:00 pm \nParticipation Fee Class: 10$ \nMilonga: From 8:30 pm To 12:00 am \nParticipation Fee Milonga: 10$ (including one regular drink) \nAddress: Abajour\, Karam Rahal street – Adlieh\, Beirut \nLocation: Please click Here
URL:https://alivetangofromlebanon.com/event/milonga-la-mirada-26-08-2025/
END:VEVENT
BEGIN:VEVENT
DTSTART;VALUE=DATE:20250825
DTEND;VALUE=DATE:20250826
DTSTAMP:20260425T033433
CREATED:20250720T122034Z
LAST-MODIFIED:20250720T122034Z
UID:2865-1756080000-1756166399@alivetangofromlebanon.com
SUMMARY:Milonga de Los Lunes 25/08/2025
DESCRIPTION:Regular Milonga organized each Monday for 19 years non-stop \nFrom 9:15 pm To 12:00 am \nParticipation Fees: 300 000 LBP \nAddress: TANGO CLOSET \nLocation: Please click Here
URL:https://alivetangofromlebanon.com/event/milonga-de-los-lunes-25-08-2025/
END:VEVENT
BEGIN:VEVENT
DTSTART;VALUE=DATE:20250824
DTEND;VALUE=DATE:20250825
DTSTAMP:20260425T033433
CREATED:20250720T121133Z
LAST-MODIFIED:20250728T211900Z
UID:2853-1755993600-1756079999@alivetangofromlebanon.com
SUMMARY:Salon Beyrouth Milonga 24/08/2025
DESCRIPTION:Regular Milonga organized the 1st and 3rd Sunday of each month \nFrom 7:00 pm To 12:00 am \nParticipation Fees: 10 $ \nDressing code: Smart Casual \nAddress: Salon Beyrouth\, Clemenceau \nLocation: Please click Here \nWe offer the Tango Community an outstanding music experience. DJs are carefully selected and each Milonga is a unique musical selection. The magic of this Milonga could be shared by anyone who is looking to spend a nice Sunday evening watching people dance\, listening to a romantic Waltz\, a nostalgic Tango or a playful Milonga while enjoying a meal & drinks.
URL:https://alivetangofromlebanon.com/event/salon-beyrouth-milonga-24-08-2025/
ORGANIZER;CN="Beirutango in collaboration with MKDA":MAILTO:mazenkiwan@gmail.com
END:VEVENT
BEGIN:VEVENT
DTSTART;VALUE=DATE:20250819
DTEND;VALUE=DATE:20250820
DTSTAMP:20260425T033433
CREATED:20250720T121417Z
LAST-MODIFIED:20250816T064602Z
UID:2857-1755561600-1755647999@alivetangofromlebanon.com
SUMMARY:Practilonga Hanine 19/08/2025
DESCRIPTION:Regular Milonga organized the 2nd and 4th Tuesday of each month \nFrom 8:30 pm To 1:00 am \nParticipation Fees: 10 $ \nAddress: Hanine Beirut\, St Joseph University\, Beirut 1100 \nLocation: Please click Here \nWe’re opening the floor to warmly welcome the newest members of our tango community\, dance and connect.\nWhether you’re new or long-time dancers\, come share the embrace.
URL:https://alivetangofromlebanon.com/event/practilonga-hanine-19-08-2025/
ORGANIZER;CN="Beirutango in collaboration with MKDA":MAILTO:mazenkiwan@gmail.com
END:VEVENT
BEGIN:VEVENT
DTSTART;VALUE=DATE:20250818
DTEND;VALUE=DATE:20250819
DTSTAMP:20260425T033433
CREATED:20250720T121952Z
LAST-MODIFIED:20250720T121952Z
UID:2863-1755475200-1755561599@alivetangofromlebanon.com
SUMMARY:Milonga de Los Lunes 18/08/2025
DESCRIPTION:Regular Milonga organized each Monday for 19 years non-stop \nFrom 9:15 pm To 12:00 am \nParticipation Fees: 300 000 LBP \nAddress: TANGO CLOSET \nLocation: Please click Here
URL:https://alivetangofromlebanon.com/event/milonga-de-los-lunes-18-08-2025/
END:VEVENT
BEGIN:VEVENT
DTSTART;VALUE=DATE:20250812
DTEND;VALUE=DATE:20250813
DTSTAMP:20260425T033433
CREATED:20250720T121321Z
LAST-MODIFIED:20250720T121321Z
UID:2855-1754956800-1755043199@alivetangofromlebanon.com
SUMMARY:Practilonga Hanine 12/08/2025
DESCRIPTION:Regular Milonga organized the 2nd and 4th Tuesday of each month \nFrom 8:30 pm To 1:00 am \nParticipation Fees: 10 $ \nAddress: Hanine Beirut\, St Joseph University\, Beirut 1100 \nLocation: Please click Here \nWe’re opening the floor to warmly welcome the newest members of our tango community\, dance and connect.\nWhether you’re new or long-time dancers\, come share the embrace.
URL:https://alivetangofromlebanon.com/event/practilonga-hanine-12-08-2025/
ORGANIZER;CN="Beirutango in collaboration with MKDA":MAILTO:mazenkiwan@gmail.com
END:VEVENT
BEGIN:VEVENT
DTSTART;VALUE=DATE:20250811
DTEND;VALUE=DATE:20250812
DTSTAMP:20260425T033433
CREATED:20250720T121855Z
LAST-MODIFIED:20250720T121855Z
UID:2861-1754870400-1754956799@alivetangofromlebanon.com
SUMMARY:Milonga de Los Lunes 11/08/2025
DESCRIPTION:Regular Milonga organized each Monday for 19 years non-stop \nFrom 9:15 pm To 12:00 am \nParticipation Fees: 300 000 LBP \nAddress: TANGO CLOSET \nLocation: Please click Here
URL:https://alivetangofromlebanon.com/event/milonga-de-los-lunes-11-08-2025/
END:VEVENT
BEGIN:VEVENT
DTSTART;VALUE=DATE:20250810
DTEND;VALUE=DATE:20250811
DTSTAMP:20260425T033433
CREATED:20250720T120717Z
LAST-MODIFIED:20250720T120717Z
UID:2847-1754784000-1754870399@alivetangofromlebanon.com
SUMMARY:Milonga Night 10/08/2025
DESCRIPTION:Regular Milonga Workshop & Party organized the 2nd Sunday and 4th Wednesday of each month \nFrom 8:00 pm To 9:00 pm: Milonga Workshop given by Ivan & Sandrine \nMilonga Workshop Participation Fees: 300000 LBP including water \nFrom 9:00 pm To 12:00 am: Milonga Party \nMilonga Party Participation Fees: 300000 LBP including water \nTDJ: Tony RIZK \nAddress: Lebanon Dance Academy (The Cosmopolitan Hotel – The Private Club – City Rama street – Dekwene) \nLocation: Please contact the organizer
URL:https://alivetangofromlebanon.com/event/milonga-night-10-08-2025/
ORGANIZER;CN="Lebanon Dance Academy":MAILTO:yves.samaha@gmail.com
END:VEVENT
BEGIN:VEVENT
DTSTART;VALUE=DATE:20250808
DTEND;VALUE=DATE:20250809
DTSTAMP:20260425T033433
CREATED:20250806T040515Z
LAST-MODIFIED:20250806T040515Z
UID:2879-1754611200-1754697599@alivetangofromlebanon.com
SUMMARY:La Milonga Etica 08/08/2025
DESCRIPTION:Regular Milonga organized twice a month \nFrom 8:30 pm To 1:30 am \nParticipation Fee: 10 $ including one drink \nAddress: Etica Beirut Aparthotel (Bauchrieh\, Zone bleue\, New Hankach street nb 3. /11) \nLocation: Please click Here
URL:https://alivetangofromlebanon.com/event/la-milonga-etica-08-08-2025/
ORGANIZER;CN="Walid EL HAJJ":MAILTO:innbuilding@gmail.com
END:VEVENT
BEGIN:VEVENT
DTSTART;VALUE=DATE:20250804
DTEND;VALUE=DATE:20250805
DTSTAMP:20260425T033433
CREATED:20250720T121808Z
LAST-MODIFIED:20250720T121808Z
UID:2859-1754265600-1754351999@alivetangofromlebanon.com
SUMMARY:Milonga de Los Lunes 04/08/2025
DESCRIPTION:Regular Milonga organized each Monday for 19 years non-stop \nFrom 9:15 pm To 12:00 am \nParticipation Fees: 300 000 LBP \nAddress: TANGO CLOSET \nLocation: Please click Here
URL:https://alivetangofromlebanon.com/event/milonga-de-los-lunes-04-08-2025/
END:VEVENT
BEGIN:VEVENT
DTSTART;VALUE=DATE:20250803
DTEND;VALUE=DATE:20250804
DTSTAMP:20260425T033433
CREATED:20250720T121042Z
LAST-MODIFIED:20250720T121042Z
UID:2851-1754179200-1754265599@alivetangofromlebanon.com
SUMMARY:Salon Beyrouth Milonga 03/08/2025
DESCRIPTION:Regular Milonga organized the 1st and 3rd Sunday of each month \nFrom 7:00 pm To 12:00 am \nParticipation Fees: 10 $ \nDressing code: Smart Casual \nAddress: Salon Beyrouth\, Clemenceau \nLocation: Please click Here \nWe offer the Tango Community an outstanding music experience. DJs are carefully selected and each Milonga is a unique musical selection. The magic of this Milonga could be shared by anyone who is looking to spend a nice Sunday evening watching people dance\, listening to a romantic Waltz\, a nostalgic Tango or a playful Milonga while enjoying a meal & drinks.
URL:https://alivetangofromlebanon.com/event/salon-beyrouth-milonga-03-08-2025/
ORGANIZER;CN="Beirutango in collaboration with MKDA":MAILTO:mazenkiwan@gmail.com
END:VEVENT
BEGIN:VEVENT
DTSTART;VALUE=DATE:20250730
DTEND;VALUE=DATE:20250731
DTSTAMP:20260425T033433
CREATED:20250713T091515Z
LAST-MODIFIED:20250716T144641Z
UID:2821-1753833600-1753919999@alivetangofromlebanon.com
SUMMARY:Summer Special Milonga Night with Live Music  by Michael & Friends 30/07/2025
DESCRIPTION:From 8:00 pm To 10:30 pm \nBand’s Fee: 12 $ \nAddress: Ashrafieh\, Sioufi\, Jean Jalakh street\, Tueni building. Ground floor \nLocation: Please click Here \nJoin us for this special evening and let’s have memorable moments TOGETHER!!! \nMusicians\nAntoine DIB: Accordion \nAlec DONERIAN: Violin \nMichael ASHJIAN: Piano & Arrangements
URL:https://alivetangofromlebanon.com/event/summer-special-milonga-night-with-live-music-by-michael-friends-30-07-2025/
ORGANIZER;CN="Onomatopoeia The Music Hub":MAILTO:alainosta@gmail.com
END:VEVENT
BEGIN:VEVENT
DTSTART;VALUE=DATE:20250729
DTEND;VALUE=DATE:20250730
DTSTAMP:20260425T033433
CREATED:20250701T180823Z
LAST-MODIFIED:20250710T075318Z
UID:2762-1753747200-1753833599@alivetangofromlebanon.com
SUMMARY:Practilonga Hanine 29/07/2025
DESCRIPTION:Regular Milonga organized the 2nd and 4th Tuesday of each month \nFrom 8:30 pm To 1:00 am \nParticipation Fees: 10 $ \nAddress: Hanine Beirut\, St Joseph University\, Beirut 1100 \nLocation: Please click Here \nWe’re opening the floor to warmly welcome the newest members of our tango community\, dance and connect.\nWhether you’re new or long-time dancers\, come share the embrace.
URL:https://alivetangofromlebanon.com/event/practilonga-hanine-29-07-2025/
ORGANIZER;CN="Beirutango in collaboration with MKDA":MAILTO:mazenkiwan@gmail.com
END:VEVENT
BEGIN:VEVENT
DTSTART;VALUE=DATE:20250728
DTEND;VALUE=DATE:20250729
DTSTAMP:20260425T033433
CREATED:20250621T171329Z
LAST-MODIFIED:20250710T075209Z
UID:2750-1753660800-1753747199@alivetangofromlebanon.com
SUMMARY:Milonga de Los Lunes 28/07/2025
DESCRIPTION:Regular Milonga organized each Monday for 19 years non-stop \nFrom 9:15 pm To 12:00 am \nParticipation Fees: 300 000 LBP \nAddress: TANGO CLOSET \nLocation: Please click Here
URL:https://alivetangofromlebanon.com/event/milonga-de-los-lunes-28-07-2025/
END:VEVENT
BEGIN:VEVENT
DTSTART;VALUE=DATE:20250725
DTEND;VALUE=DATE:20250726
DTSTAMP:20260425T033433
CREATED:20250621T170812Z
LAST-MODIFIED:20250717T044325Z
UID:2742-1753401600-1753487999@alivetangofromlebanon.com
SUMMARY:La Milonga Etica 25/07/2025
DESCRIPTION:Regular Milonga organized twice a month \nFrom 8:30 pm To 1:30 am \nParticipation Fee: 10 $ including one drink \nAddress: Etica Beirut Aparthotel (Bauchrieh\, Zone bleue\, New Hankach street nb 3. /11) \nLocation: Please click Here
URL:https://alivetangofromlebanon.com/event/la-milonga-etica-25-07-2025/
ORGANIZER;CN="Walid EL HAJJ":MAILTO:innbuilding@gmail.com
END:VEVENT
BEGIN:VEVENT
DTSTART;VALUE=DATE:20250723
DTEND;VALUE=DATE:20250724
DTSTAMP:20260425T033433
CREATED:20250710T073340Z
LAST-MODIFIED:20250710T085301Z
UID:2804-1753228800-1753315199@alivetangofromlebanon.com
SUMMARY:Milonga Night 23/07/2025
DESCRIPTION:Regular Milonga Workshop & Party organized the 2nd Sunday and 4th Wednesday of each month \nFrom 8:00 pm To 9:00 pm: Milonga Workshop given by Ivan & Sandrine \nMilonga Workshop Participation Fees: 300000 LBP including water \nFrom 9:00 pm To 12:00 am: Milonga Party \nMilonga Party Participation Fees: 300000 LBP including water \nTDJ: Tony RIZK \nAddress: Lebanon Dance Academy (The Cosmopolitan Hotel – The Private Club – City Rama street – Dekwene) \nLocation: Please contact the organizer
URL:https://alivetangofromlebanon.com/event/milonga-night-23-07-2025/
ORGANIZER;CN="Lebanon Dance Academy":MAILTO:yves.samaha@gmail.com
END:VEVENT
BEGIN:VEVENT
DTSTART;VALUE=DATE:20250721
DTEND;VALUE=DATE:20250722
DTSTAMP:20260425T033433
CREATED:20250621T171216Z
LAST-MODIFIED:20250710T075104Z
UID:2748-1753056000-1753142399@alivetangofromlebanon.com
SUMMARY:Milonga de Los Lunes 21/07/2025
DESCRIPTION:Regular Milonga organized each Monday for 19 years non-stop \nFrom 9:15 pm To 12:00 am \nParticipation Fees: 300 000 LBP \nAddress: TANGO CLOSET \nLocation: Please click Here
URL:https://alivetangofromlebanon.com/event/milonga-de-los-lunes-21-07-2025/
END:VEVENT
BEGIN:VEVENT
DTSTART;VALUE=DATE:20250720
DTEND;VALUE=DATE:20250721
DTSTAMP:20260425T033433
CREATED:20250621T170305Z
LAST-MODIFIED:20250710T075017Z
UID:2736-1752969600-1753055999@alivetangofromlebanon.com
SUMMARY:Salon Beyrouth Milonga 20/07/2025
DESCRIPTION:Regular Milonga organized the 1st and 3rd Sunday of each month \nFrom 7:00 pm To 12:00 am \nParticipation Fees: 10 $ \nDressing code: Smart Casual \nAddress: Salon Beyrouth\, Clemenceau \nLocation: Please click Here \nWe offer the Tango Community an outstanding music experience. DJs are carefully selected and each Milonga is a unique musical selection. The magic of this Milonga could be shared by anyone who is looking to spend a nice Sunday evening watching people dance\, listening to a romantic Waltz\, a nostalgic Tango or a playful Milonga while enjoying a meal & drinks.
URL:https://alivetangofromlebanon.com/event/salon-beyrouth-milonga-20-07-2025/
ORGANIZER;CN="Beirutango in collaboration with MKDA":MAILTO:mazenkiwan@gmail.com
END:VEVENT
BEGIN:VEVENT
DTSTART;VALUE=DATE:20250716
DTEND;VALUE=DATE:20250717
DTSTAMP:20260425T033433
CREATED:20250715T061100Z
LAST-MODIFIED:20250715T061732Z
UID:2831-1752624000-1752710399@alivetangofromlebanon.com
SUMMARY:Milonga La Mirada 16/07/2025
DESCRIPTION:Regular Milonga organized the 2nd Wednesday of each month \nClass with Karim: From 7:00 pm To 8:00 pm \nParticipation Fee Class: 10$ \nMilonga: From 8:30 pm To 12:00 am \nParticipation Fee Milonga: 10$ (including one regular drink) \nAddress: Abajour\, Karam Rahal street – Adlieh\, Beirut \nLocation: Please click Here
URL:https://alivetangofromlebanon.com/event/milonga-la-mirada-16-07-2025/
END:VEVENT
BEGIN:VEVENT
DTSTART;VALUE=DATE:20250715
DTEND;VALUE=DATE:20250716
DTSTAMP:20260425T033433
CREATED:20250701T175951Z
LAST-MODIFIED:20250710T074850Z
UID:2756-1752537600-1752623999@alivetangofromlebanon.com
SUMMARY:Practilonga Hanine 15/07/2025
DESCRIPTION:Regular Milonga organized the 2nd and 4th Tuesday of each month \nFrom 8:30 pm To 1:00 am \nParticipation Fees: 10 $ \nAddress: Hanine Beirut\, St Joseph University\, Beirut 1100 \nLocation: Please click Here \nWe’re opening the floor to warmly welcome the newest members of our tango community\, dance and connect.\nWhether you’re new or long-time dancers\, come share the embrace
URL:https://alivetangofromlebanon.com/event/practilonga-hanine-15-07-2025/
ORGANIZER;CN="Beirutango in collaboration with MKDA":MAILTO:mazenkiwan@gmail.com
END:VEVENT
BEGIN:VEVENT
DTSTART;VALUE=DATE:20250714
DTEND;VALUE=DATE:20250715
DTSTAMP:20260425T033433
CREATED:20250621T171057Z
LAST-MODIFIED:20250710T074747Z
UID:2746-1752451200-1752537599@alivetangofromlebanon.com
SUMMARY:Milonga de Los Lunes 14/07/2025
DESCRIPTION:Regular Milonga organized each Monday for 19 years non-stop \nFrom 9:15 pm To 12:00 am \nParticipation Fees: 300 000 LBP \nAddress: TANGO CLOSET \nLocation: Please click Here
URL:https://alivetangofromlebanon.com/event/milonga-de-los-lunes-14-07-2025/
END:VEVENT
BEGIN:VEVENT
DTSTART;VALUE=DATE:20250713
DTEND;VALUE=DATE:20250714
DTSTAMP:20260425T033433
CREATED:20250621T170449Z
LAST-MODIFIED:20250710T085415Z
UID:2738-1752364800-1752451199@alivetangofromlebanon.com
SUMMARY:Milonga Night 13/07/2025
DESCRIPTION:Regular Milonga Workshop & Party organized the 2nd Sunday and 4th Wednesday of each month \nFrom 8:00 pm To 9:00 pm: Milonga Workshop given by Ivan & Sandrine \nMilonga Workshop Participation Fees: 300000 LBP including water \nFrom 9:00 pm To 12:00 am: Milonga Party \nMilonga Party Participation Fees: 300000 LBP including water \nTDJ: Tony RIZK \nAddress: Lebanon Dance Academy (The Cosmopolitan Hotel – The Private Club – City Rama street – Dekwene) \nLocation: Please contact the organizer
URL:https://alivetangofromlebanon.com/event/milonga-night-13-07-2025/
ORGANIZER;CN="Lebanon Dance Academy":MAILTO:yves.samaha@gmail.com
END:VEVENT
BEGIN:VEVENT
DTSTART;VALUE=DATE:20250707
DTEND;VALUE=DATE:20250708
DTSTAMP:20260425T033433
CREATED:20250621T170951Z
LAST-MODIFIED:20250710T074609Z
UID:2744-1751846400-1751932799@alivetangofromlebanon.com
SUMMARY:Milonga de Los Lunes 07/07/2025
DESCRIPTION:Regular Milonga organized each Monday for 19 years non-stop \nFrom 9:15 pm To 12:00 am \nParticipation Fees: 300 000 LBP \nAddress: TANGO CLOSET \nLocation: Please click Here
URL:https://alivetangofromlebanon.com/event/milonga-de-los-lunes-07-07-2025/
END:VEVENT
BEGIN:VEVENT
DTSTART;VALUE=DATE:20250706
DTEND;VALUE=DATE:20250707
DTSTAMP:20260425T033433
CREATED:20250621T170150Z
LAST-MODIFIED:20250710T074514Z
UID:2734-1751760000-1751846399@alivetangofromlebanon.com
SUMMARY:Salon Beyrouth Milonga 06/07/2025
DESCRIPTION:Regular Milonga organized the 1st and 3rd Sunday of each month \nFrom 7:00 pm To 12:00 am \nParticipation Fees: 10$ \nDressing code: Smart Casual \nAddress: Salon Beyrouth\, Clemenceau \nLocation: Please click Here \nWe offer the Tango Community an outstanding music experience. DJs are carefully selected and each Milonga is a unique musical selection. The magic of this Milonga could be shared by anyone who is looking to spend a nice Sunday evening watching people dance\, listening to a romantic Waltz\, a nostalgic Tango or a playful Milonga while enjoying a meal & drinks.
URL:https://alivetangofromlebanon.com/event/salon-beyrouth-milonga-06-07-2025/
ORGANIZER;CN="Beirutango in collaboration with MKDA":MAILTO:mazenkiwan@gmail.com
END:VEVENT
BEGIN:VEVENT
DTSTART;VALUE=DATE:20250704
DTEND;VALUE=DATE:20250705
DTSTAMP:20260425T033433
CREATED:20250621T170647Z
LAST-MODIFIED:20250710T074340Z
UID:2740-1751587200-1751673599@alivetangofromlebanon.com
SUMMARY:La Milonga Etica 04/07/2025
DESCRIPTION:Regular Milonga organized twice a month \nFrom 8:30 pm To 1:30 am \nParticipation Fee: 10$ including one drink \nAddress: Etica Beirut Aparthotel (Bauchrieh\, Zone bleue\, New Hankach street nb 3. /11) \nLocation: Please click Here
URL:https://alivetangofromlebanon.com/event/la-milonga-etica-04-07-2025/
ORGANIZER;CN="Walid EL HAJJ":MAILTO:innbuilding@gmail.com
END:VEVENT
BEGIN:VEVENT
DTSTART;VALUE=DATE:20250630
DTEND;VALUE=DATE:20250701
DTSTAMP:20260425T033433
CREATED:20250519T113400Z
LAST-MODIFIED:20250519T113400Z
UID:2641-1751241600-1751327999@alivetangofromlebanon.com
SUMMARY:Milonga de Los Lunes 30/06/2025
DESCRIPTION:Regular Milonga organized each Monday for 19 years non-stop \nFrom 9:15 pm To 12:00 am \nAddress: TANGO CLOSET \nLocation: Please click Here
URL:https://alivetangofromlebanon.com/event/milonga-de-los-lunes-30-06-2025/
END:VEVENT
END:VCALENDAR