BEGIN:VCALENDAR
VERSION:2.0
PRODID:-//Tango &amp; Milongas in Beirut Lebanon - ECPv6.15.20//NONSGML v1.0//EN
CALSCALE:GREGORIAN
METHOD:PUBLISH
X-ORIGINAL-URL:https://alivetangofromlebanon.com
X-WR-CALDESC:Events for Tango &amp; Milongas in Beirut Lebanon
REFRESH-INTERVAL;VALUE=DURATION:PT1H
X-Robots-Tag:noindex
X-PUBLISHED-TTL:PT1H
BEGIN:VTIMEZONE
TZID:Europe/Helsinki
BEGIN:DAYLIGHT
TZOFFSETFROM:+0200
TZOFFSETTO:+0300
TZNAME:EEST
DTSTART:20250330T010000
END:DAYLIGHT
BEGIN:STANDARD
TZOFFSETFROM:+0300
TZOFFSETTO:+0200
TZNAME:EET
DTSTART:20251026T010000
END:STANDARD
BEGIN:DAYLIGHT
TZOFFSETFROM:+0200
TZOFFSETTO:+0300
TZNAME:EEST
DTSTART:20260329T010000
END:DAYLIGHT
BEGIN:STANDARD
TZOFFSETFROM:+0300
TZOFFSETTO:+0200
TZNAME:EET
DTSTART:20261025T010000
END:STANDARD
BEGIN:DAYLIGHT
TZOFFSETFROM:+0200
TZOFFSETTO:+0300
TZNAME:EEST
DTSTART:20270328T010000
END:DAYLIGHT
BEGIN:STANDARD
TZOFFSETFROM:+0300
TZOFFSETTO:+0200
TZNAME:EET
DTSTART:20271031T010000
END:STANDARD
END:VTIMEZONE
BEGIN:VEVENT
DTSTART;VALUE=DATE:20260302
DTEND;VALUE=DATE:20260303
DTSTAMP:20260420T130156
CREATED:20260225T054302Z
LAST-MODIFIED:20260225T054302Z
UID:3328-1772409600-1772495999@alivetangofromlebanon.com
SUMMARY:Milonga de Los Lunes 02/03/2026
DESCRIPTION:Regular Milonga organized each Monday for 20 years non-stop \nFrom 9:15 pm To 12:00 am \nParticipation Fees: 5 $ \nAddress: TANGO CLOSET \nLocation: Please click Here
URL:https://alivetangofromlebanon.com/event/milonga-de-los-lunes-02-03-2026/
END:VEVENT
BEGIN:VEVENT
DTSTART;VALUE=DATE:20260306
DTEND;VALUE=DATE:20260307
DTSTAMP:20260420T130156
CREATED:20260303T155857Z
LAST-MODIFIED:20260303T155857Z
UID:3350-1772755200-1772841599@alivetangofromlebanon.com
SUMMARY:La Milonga Etica 06/03/2026
DESCRIPTION:Regular Milonga organized two Fridays a month \nFrom 8:30 pm To 1:30 am \nParticipation Fee: 10 $ including one drink \nAddress: Etica Beirut Aparthotel (Bauchrieh\, Zone bleue\, New Hankach street nb 3. /11) \nLocation: Please click Here
URL:https://alivetangofromlebanon.com/event/la-milonga-etica-06-03-2026/
ORGANIZER;CN="Walid EL HAJJ":MAILTO:innbuilding@gmail.com
END:VEVENT
BEGIN:VEVENT
DTSTART;VALUE=DATE:20260308
DTEND;VALUE=DATE:20260309
DTSTAMP:20260420T130156
CREATED:20260225T071523Z
LAST-MODIFIED:20260225T071523Z
UID:3338-1772928000-1773014399@alivetangofromlebanon.com
SUMMARY:Salon Beyrouth Milonga 08/03/2026
DESCRIPTION:Regular Milonga organized the 1st and 3rd Sunday of each month \nFrom 7:00 pm To 12:00 am \nParticipation Fees: 10 $ \nDressing code: Smart Casual \nAddress: Salon Beyrouth\, Clemenceau \nLocation: Please click Here \nWe offer the Tango Community an outstanding music experience. DJs are carefully selected and each Milonga is a unique musical selection. The magic of this Milonga could be shared by anyone who is looking to spend a nice Sunday evening watching people dance\, listening to a romantic Waltz\, a nostalgic Tango or a playful Milonga while enjoying a meal & drinks.
URL:https://alivetangofromlebanon.com/event/salon-beyrouth-milonga-08-03-2026/
ORGANIZER;CN="Beirutango in collaboration with MKDA":MAILTO:mazenkiwan@gmail.com
END:VEVENT
BEGIN:VEVENT
DTSTART;VALUE=DATE:20260309
DTEND;VALUE=DATE:20260310
DTSTAMP:20260420T130156
CREATED:20260225T054408Z
LAST-MODIFIED:20260225T054408Z
UID:3330-1773014400-1773100799@alivetangofromlebanon.com
SUMMARY:Milonga de Los Lunes 09/03/2026
DESCRIPTION:Regular Milonga organized each Monday for 20 years non-stop \nFrom 9:15 pm To 12:00 am \nParticipation Fees: 5 $ \nAddress: TANGO CLOSET \nLocation: Please click Here
URL:https://alivetangofromlebanon.com/event/milonga-de-los-lunes-09-03-2026/
END:VEVENT
BEGIN:VEVENT
DTSTART;VALUE=DATE:20260315
DTEND;VALUE=DATE:20260316
DTSTAMP:20260420T130156
CREATED:20260227T112006Z
LAST-MODIFIED:20260227T112006Z
UID:3343-1773532800-1773619199@alivetangofromlebanon.com
SUMMARY:Tango Night Argentina Milonga 15/03/2026
DESCRIPTION:Regular Milonga organized the 2nd Sunday of each month \nFrom 7:00 pm To 1:00 am \nParticipation Fees: 10 $ \nDressing code: Elegant \nAddress: Warwick Stone 55 International Hotel\, Zeinoun Street 22343 (Calido 13th Floor) \nLocation: Please click Here
URL:https://alivetangofromlebanon.com/event/tango-night-argentina-milonga-15-03-2026/
ORGANIZER;CN="Sahar ABOU KHALIL":MAILTO:saharaboukhalil@hotmail.com
END:VEVENT
BEGIN:VEVENT
DTSTART;VALUE=DATE:20260316
DTEND;VALUE=DATE:20260317
DTSTAMP:20260420T130156
CREATED:20260225T054530Z
LAST-MODIFIED:20260225T054530Z
UID:3332-1773619200-1773705599@alivetangofromlebanon.com
SUMMARY:Milonga de Los Lunes 16/03/2026
DESCRIPTION:Regular Milonga organized each Monday for 20 years non-stop \nFrom 9:15 pm To 12:00 am \nParticipation Fees: 5 $ \nAddress: TANGO CLOSET \nLocation: Please click Here
URL:https://alivetangofromlebanon.com/event/milonga-de-los-lunes-16-03-2026/
END:VEVENT
BEGIN:VEVENT
DTSTART;VALUE=DATE:20260317
DTEND;VALUE=DATE:20260318
DTSTAMP:20260420T130156
CREATED:20260227T171018Z
LAST-MODIFIED:20260227T171018Z
UID:3345-1773705600-1773791999@alivetangofromlebanon.com
SUMMARY:Milonga Hanine (Tango Night) 17/03/2026
DESCRIPTION:Regular Milonga organized twice a month \nFrom 7:00 pm till Midnight \nParticipation Fees: 10 $ \nAddress: Hanine Beirut\, St Joseph University\, Beirut 1100 \nLocation: Please click Here \nWe’re opening the floor to warmly welcome the newest members of our tango community\, dance and connect.\nWhether you’re new or long-time dancers\, come share the embrace.
URL:https://alivetangofromlebanon.com/event/milonga-hanine-tango-night-17-03-2026/
ORGANIZER;CN="Beirutango in collaboration with MKDA":MAILTO:mazenkiwan@gmail.com
END:VEVENT
BEGIN:VEVENT
DTSTART;VALUE=DATE:20260322
DTEND;VALUE=DATE:20260323
DTSTAMP:20260420T130156
CREATED:20260225T071629Z
LAST-MODIFIED:20260225T071911Z
UID:3340-1774137600-1774223999@alivetangofromlebanon.com
SUMMARY:Salon Beyrouth Milonga 22/03/2026
DESCRIPTION:Regular Milonga organized the 1st and 3rd Sunday of each month \nFrom 7:00 pm To 12:00 am \nParticipation Fees: 10 $ \nDressing code: Smart Casual \nAddress: Salon Beyrouth\, Clemenceau \nLocation: Please click Here \nWe offer the Tango Community an outstanding music experience. DJs are carefully selected and each Milonga is a unique musical selection. The magic of this Milonga could be shared by anyone who is looking to spend a nice Sunday evening watching people dance\, listening to a romantic Waltz\, a nostalgic Tango or a playful Milonga while enjoying a meal & drinks.
URL:https://alivetangofromlebanon.com/event/salon-beyrouth-milonga-22-03-2026/
ORGANIZER;CN="Beirutango in collaboration with MKDA":MAILTO:mazenkiwan@gmail.com
END:VEVENT
BEGIN:VEVENT
DTSTART;VALUE=DATE:20260323
DTEND;VALUE=DATE:20260324
DTSTAMP:20260420T130156
CREATED:20260225T054626Z
LAST-MODIFIED:20260225T054626Z
UID:3334-1774224000-1774310399@alivetangofromlebanon.com
SUMMARY:Milonga de Los Lunes 23/03/2026
DESCRIPTION:Regular Milonga organized each Monday for 20 years non-stop \nFrom 9:15 pm To 12:00 am \nParticipation Fees: 5 $ \nAddress: TANGO CLOSET \nLocation: Please click Here
URL:https://alivetangofromlebanon.com/event/milonga-de-los-lunes-23-03-2026/
END:VEVENT
BEGIN:VEVENT
DTSTART;VALUE=DATE:20260327
DTEND;VALUE=DATE:20260328
DTSTAMP:20260420T130156
CREATED:20260225T054112Z
LAST-MODIFIED:20260225T054112Z
UID:3326-1774569600-1774655999@alivetangofromlebanon.com
SUMMARY:LDA Milonga Night 27/03/2026
DESCRIPTION:Regular Milonga Party organized the 4th Friday of each month \nFrom 9:00 pm To 12:00 am: Milonga Party \nMilonga Party Participation Fees: 450000 LBP including water \nTDJ: Tony RIZK \nAddress: Lebanon Dance Academy (The Cosmopolitan Hotel – The Private Club – City Rama street – Dekwene) \nLocation: Please contact the organizer
URL:https://alivetangofromlebanon.com/event/lda-milonga-night-27-03-2026/
ORGANIZER;CN="Lebanon Dance Academy":MAILTO:yves.samaha@gmail.com
END:VEVENT
BEGIN:VEVENT
DTSTART;VALUE=DATE:20260330
DTEND;VALUE=DATE:20260331
DTSTAMP:20260420T130156
CREATED:20260225T055147Z
LAST-MODIFIED:20260225T055147Z
UID:3336-1774828800-1774915199@alivetangofromlebanon.com
SUMMARY:Milonga de Los Lunes 30/03/2026
DESCRIPTION:Regular Milonga organized each Monday for 20 years non-stop \nFrom 9:15 pm To 12:00 am \nParticipation Fees: 5 $ \nAddress: TANGO CLOSET \nLocation: Please click Here
URL:https://alivetangofromlebanon.com/event/milonga-de-los-lunes-30-03-2026/
END:VEVENT
BEGIN:VEVENT
DTSTART;VALUE=DATE:20260331
DTEND;VALUE=DATE:20260401
DTSTAMP:20260420T130156
CREATED:20260227T171104Z
LAST-MODIFIED:20260227T171104Z
UID:3347-1774915200-1775001599@alivetangofromlebanon.com
SUMMARY:Milonga Hanine (Tango Night) 31/03/2026
DESCRIPTION:Regular Milonga organized twice a month \nFrom 7:00 pm till Midnight \nParticipation Fees: 10 $ \nAddress: Hanine Beirut\, St Joseph University\, Beirut 1100 \nLocation: Please click Here \nWe’re opening the floor to warmly welcome the newest members of our tango community\, dance and connect.\nWhether you’re new or long-time dancers\, come share the embrace.
URL:https://alivetangofromlebanon.com/event/milonga-hanine-tango-night-31-03-2026/
ORGANIZER;CN="Beirutango in collaboration with MKDA":MAILTO:mazenkiwan@gmail.com
END:VEVENT
BEGIN:VEVENT
DTSTART;VALUE=DATE:20260406
DTEND;VALUE=DATE:20260407
DTSTAMP:20260420T130156
CREATED:20260327T155352Z
LAST-MODIFIED:20260327T155352Z
UID:3353-1775433600-1775519999@alivetangofromlebanon.com
SUMMARY:Milonga de Los Lunes 06/04/2026
DESCRIPTION:Regular Milonga organized each Monday for 20 years non-stop \nFrom 9:15 pm To 12:00 am \nParticipation Fees: 5 $ \nAddress: TANGO CLOSET \nLocation: Please click Here
URL:https://alivetangofromlebanon.com/event/milonga-de-los-lunes-06-04-2026/
END:VEVENT
BEGIN:VEVENT
DTSTART;VALUE=DATE:20260413
DTEND;VALUE=DATE:20260414
DTSTAMP:20260420T130156
CREATED:20260327T155435Z
LAST-MODIFIED:20260327T155435Z
UID:3355-1776038400-1776124799@alivetangofromlebanon.com
SUMMARY:Milonga de Los Lunes 13/04/2026
DESCRIPTION:Regular Milonga organized each Monday for 20 years non-stop \nFrom 9:15 pm To 12:00 am \nParticipation Fees: 5 $ \nAddress: TANGO CLOSET \nLocation: Please click Here
URL:https://alivetangofromlebanon.com/event/milonga-de-los-lunes-13-04-2026/
END:VEVENT
BEGIN:VEVENT
DTSTART;VALUE=DATE:20260420
DTEND;VALUE=DATE:20260421
DTSTAMP:20260420T130156
CREATED:20260327T155519Z
LAST-MODIFIED:20260327T155519Z
UID:3357-1776643200-1776729599@alivetangofromlebanon.com
SUMMARY:Milonga de Los Lunes 20/04/2026
DESCRIPTION:Regular Milonga organized each Monday for 20 years non-stop \nFrom 9:15 pm To 12:00 am \nParticipation Fees: 5 $ \nAddress: TANGO CLOSET \nLocation: Please click Here
URL:https://alivetangofromlebanon.com/event/milonga-de-los-lunes-20-04-2026/
END:VEVENT
BEGIN:VEVENT
DTSTART;VALUE=DATE:20260424
DTEND;VALUE=DATE:20260425
DTSTAMP:20260420T130156
CREATED:20260327T155751Z
LAST-MODIFIED:20260327T155751Z
UID:3361-1776988800-1777075199@alivetangofromlebanon.com
SUMMARY:LDA Milonga Night 24/04/2026
DESCRIPTION:Regular Milonga Party organized the 4th Friday of each month \nFrom 9:00 pm To 12:00 am: Milonga Party \nMilonga Party Participation Fees: 450000 LBP including water \nTDJ: Tony RIZK \nAddress: Lebanon Dance Academy (The Cosmopolitan Hotel – The Private Club – City Rama street – Dekwene) \nLocation: Please contact the organizer
URL:https://alivetangofromlebanon.com/event/lda-milonga-night-24-04-2026/
ORGANIZER;CN="Lebanon Dance Academy":MAILTO:yves.samaha@gmail.com
END:VEVENT
BEGIN:VEVENT
DTSTART;VALUE=DATE:20260427
DTEND;VALUE=DATE:20260428
DTSTAMP:20260420T130156
CREATED:20260327T155607Z
LAST-MODIFIED:20260327T155607Z
UID:3359-1777248000-1777334399@alivetangofromlebanon.com
SUMMARY:Milonga de Los Lunes 27/04/2026
DESCRIPTION:Regular Milonga organized each Monday for 20 years non-stop \nFrom 9:15 pm To 12:00 am \nParticipation Fees: 5 $ \nAddress: TANGO CLOSET \nLocation: Please click Here
URL:https://alivetangofromlebanon.com/event/milonga-de-los-lunes-27-04-2026/
END:VEVENT
END:VCALENDAR