BEGIN:VCALENDAR
VERSION:2.0
PRODID:-//Tango &amp; Milongas in Beirut Lebanon - ECPv6.15.20//NONSGML v1.0//EN
CALSCALE:GREGORIAN
METHOD:PUBLISH
X-WR-CALNAME:Tango &amp; Milongas in Beirut Lebanon
X-ORIGINAL-URL:https://alivetangofromlebanon.com
X-WR-CALDESC:Events for Tango &amp; Milongas in Beirut Lebanon
REFRESH-INTERVAL;VALUE=DURATION:PT1H
X-Robots-Tag:noindex
X-PUBLISHED-TTL:PT1H
BEGIN:VTIMEZONE
TZID:Europe/Helsinki
BEGIN:DAYLIGHT
TZOFFSETFROM:+0200
TZOFFSETTO:+0300
TZNAME:EEST
DTSTART:20250330T010000
END:DAYLIGHT
BEGIN:STANDARD
TZOFFSETFROM:+0300
TZOFFSETTO:+0200
TZNAME:EET
DTSTART:20251026T010000
END:STANDARD
BEGIN:DAYLIGHT
TZOFFSETFROM:+0200
TZOFFSETTO:+0300
TZNAME:EEST
DTSTART:20260329T010000
END:DAYLIGHT
BEGIN:STANDARD
TZOFFSETFROM:+0300
TZOFFSETTO:+0200
TZNAME:EET
DTSTART:20261025T010000
END:STANDARD
BEGIN:DAYLIGHT
TZOFFSETFROM:+0200
TZOFFSETTO:+0300
TZNAME:EEST
DTSTART:20270328T010000
END:DAYLIGHT
BEGIN:STANDARD
TZOFFSETFROM:+0300
TZOFFSETTO:+0200
TZNAME:EET
DTSTART:20271031T010000
END:STANDARD
END:VTIMEZONE
BEGIN:VEVENT
DTSTART;VALUE=DATE:20260104
DTEND;VALUE=DATE:20260105
DTSTAMP:20260420T125853
CREATED:20251222T130442Z
LAST-MODIFIED:20251222T130442Z
UID:3175-1767484800-1767571199@alivetangofromlebanon.com
SUMMARY:Salon Beyrouth Milonga 04/01/2026
DESCRIPTION:Regular Milonga organized the 1st and 3rd Sunday of each month \nFrom 7:00 pm To 12:00 am \nParticipation Fees: 10 $ \nDressing code: Smart Casual \nAddress: Salon Beyrouth\, Clemenceau \nLocation: Please click Here \nWe offer the Tango Community an outstanding music experience. DJs are carefully selected and each Milonga is a unique musical selection. The magic of this Milonga could be shared by anyone who is looking to spend a nice Sunday evening watching people dance\, listening to a romantic Waltz\, a nostalgic Tango or a playful Milonga while enjoying a meal & drinks.
URL:https://alivetangofromlebanon.com/event/salon-beyrouth-milonga-04-01-2026/
ORGANIZER;CN="Beirutango in collaboration with MKDA":MAILTO:mazenkiwan@gmail.com
END:VEVENT
BEGIN:VEVENT
DTSTART;VALUE=DATE:20260105
DTEND;VALUE=DATE:20260106
DTSTAMP:20260420T125853
CREATED:20251222T125405Z
LAST-MODIFIED:20251222T125405Z
UID:3164-1767571200-1767657599@alivetangofromlebanon.com
SUMMARY:Milonga de Los Lunes 05/01/2026
DESCRIPTION:Regular Milonga organized each Monday for 20 years non-stop \nFrom 9:15 pm To 12:00 am \nParticipation Fees: 300 000 LBP \nAddress: TANGO CLOSET \nLocation: Please click Here
URL:https://alivetangofromlebanon.com/event/milonga-de-los-lunes-05-01-2026/
END:VEVENT
BEGIN:VEVENT
DTSTART;VALUE=DATE:20260112
DTEND;VALUE=DATE:20260113
DTSTAMP:20260420T125853
CREATED:20251222T125537Z
LAST-MODIFIED:20251222T125537Z
UID:3166-1768176000-1768262399@alivetangofromlebanon.com
SUMMARY:Milonga de Los Lunes 12/01/2026
DESCRIPTION:Regular Milonga organized each Monday for 20 years non-stop \nFrom 9:15 pm To 12:00 am \nParticipation Fees: 300 000 LBP \nAddress: TANGO CLOSET \nLocation: Please click Here
URL:https://alivetangofromlebanon.com/event/milonga-de-los-lunes-12-01-2026/
END:VEVENT
BEGIN:VEVENT
DTSTART;VALUE=DATE:20260113
DTEND;VALUE=DATE:20260114
DTSTAMP:20260420T125853
CREATED:20260105T080041Z
LAST-MODIFIED:20260105T080041Z
UID:3185-1768262400-1768348799@alivetangofromlebanon.com
SUMMARY:Milonga Hanine (Tango Night) 13/01/2026
DESCRIPTION:Regular Milonga organized twice a month \nFrom 7:00 pm till Midnight \nParticipation Fees: 10 $ \nAddress: Hanine Beirut\, St Joseph University\, Beirut 1100 \nLocation: Please click Here \nWe’re opening the floor to warmly welcome the newest members of our tango community\, dance and connect.\nWhether you’re new or long-time dancers\, come share the embrace.
URL:https://alivetangofromlebanon.com/event/milonga-hanine-tango-night-13-01-2026/
ORGANIZER;CN="Beirutango in collaboration with MKDA":MAILTO:mazenkiwan@gmail.com
END:VEVENT
BEGIN:VEVENT
DTSTART;VALUE=DATE:20260118
DTEND;VALUE=DATE:20260119
DTSTAMP:20260420T125853
CREATED:20251222T130553Z
LAST-MODIFIED:20251222T130553Z
UID:3177-1768694400-1768780799@alivetangofromlebanon.com
SUMMARY:Salon Beyrouth Milonga 18/01/2026
DESCRIPTION:Regular Milonga organized the 1st and 3rd Sunday of each month \nFrom 7:00 pm To 12:00 am \nParticipation Fees: 10 $ \nDressing code: Smart Casual \nAddress: Salon Beyrouth\, Clemenceau \nLocation: Please click Here \nWe offer the Tango Community an outstanding music experience. DJs are carefully selected and each Milonga is a unique musical selection. The magic of this Milonga could be shared by anyone who is looking to spend a nice Sunday evening watching people dance\, listening to a romantic Waltz\, a nostalgic Tango or a playful Milonga while enjoying a meal & drinks.
URL:https://alivetangofromlebanon.com/event/salon-beyrouth-milonga-18-01-2026/
ORGANIZER;CN="Beirutango in collaboration with MKDA":MAILTO:mazenkiwan@gmail.com
END:VEVENT
BEGIN:VEVENT
DTSTART;VALUE=DATE:20260119
DTEND;VALUE=DATE:20260120
DTSTAMP:20260420T125853
CREATED:20251222T125644Z
LAST-MODIFIED:20251222T125644Z
UID:3168-1768780800-1768867199@alivetangofromlebanon.com
SUMMARY:Milonga de Los Lunes 19/01/2026
DESCRIPTION:Regular Milonga organized each Monday for 20 years non-stop \nFrom 9:15 pm To 12:00 am \nParticipation Fees: 300 000 LBP \nAddress: TANGO CLOSET \nLocation: Please click Here
URL:https://alivetangofromlebanon.com/event/milonga-de-los-lunes-19-01-2026/
END:VEVENT
BEGIN:VEVENT
DTSTART;VALUE=DATE:20260123
DTEND;VALUE=DATE:20260124
DTSTAMP:20260420T125853
CREATED:20251222T130003Z
LAST-MODIFIED:20251222T130211Z
UID:3173-1769126400-1769212799@alivetangofromlebanon.com
SUMMARY:Milonga Night 23/01/2026
DESCRIPTION:Regular Milonga Party organized the 4th Friday of each month \nFrom 9:00 pm To 12:00 am: Milonga Party \nMilonga Party Participation Fees: 450000 LBP including water \nTDJ: Tony RIZK \nAddress: Lebanon Dance Academy (The Cosmopolitan Hotel – The Private Club – City Rama street – Dekwene) \nLocation: Please contact the organizer
URL:https://alivetangofromlebanon.com/event/milonga-night-23-01-2026/
ORGANIZER;CN="Lebanon Dance Academy":MAILTO:yves.samaha@gmail.com
END:VEVENT
BEGIN:VEVENT
DTSTART;VALUE=DATE:20260126
DTEND;VALUE=DATE:20260127
DTSTAMP:20260420T125853
CREATED:20251222T125748Z
LAST-MODIFIED:20251222T125748Z
UID:3170-1769385600-1769471999@alivetangofromlebanon.com
SUMMARY:Milonga de Los Lunes 26/01/2026
DESCRIPTION:Regular Milonga organized each Monday for 20 years non-stop \nFrom 9:15 pm To 12:00 am \nParticipation Fees: 300 000 LBP \nAddress: TANGO CLOSET \nLocation: Please click Here
URL:https://alivetangofromlebanon.com/event/milonga-de-los-lunes-26-01-2026/
END:VEVENT
BEGIN:VEVENT
DTSTART;VALUE=DATE:20260127
DTEND;VALUE=DATE:20260128
DTSTAMP:20260420T125853
CREATED:20260105T080140Z
LAST-MODIFIED:20260105T080140Z
UID:3187-1769472000-1769558399@alivetangofromlebanon.com
SUMMARY:Milonga Hanine (Tango Night) 27/01/2026
DESCRIPTION:Regular Milonga organized twice a month \nFrom 7:00 pm till Midnight \nParticipation Fees: 10 $ \nAddress: Hanine Beirut\, St Joseph University\, Beirut 1100 \nLocation: Please click Here \nWe’re opening the floor to warmly welcome the newest members of our tango community\, dance and connect.\nWhether you’re new or long-time dancers\, come share the embrace.
URL:https://alivetangofromlebanon.com/event/milonga-hanine-tango-night-27-01-2026/
ORGANIZER;CN="Beirutango in collaboration with MKDA":MAILTO:mazenkiwan@gmail.com
END:VEVENT
BEGIN:VEVENT
DTSTART;VALUE=DATE:20260130
DTEND;VALUE=DATE:20260131
DTSTAMP:20260420T125853
CREATED:20260107T163859Z
LAST-MODIFIED:20260107T163859Z
UID:3189-1769731200-1769817599@alivetangofromlebanon.com
SUMMARY:La Milonga Etica 30/01/2026
DESCRIPTION:Regular Milonga organized two Fridays a month \nFrom 8:30 pm To 1:30 am \nParticipation Fee: 10 $ including one drink \nAddress: Etica Beirut Aparthotel (Bauchrieh\, Zone bleue\, New Hankach street nb 3. /11) \nLocation: Please click Here
URL:https://alivetangofromlebanon.com/event/la-milonga-etica-30-01-2026/
ORGANIZER;CN="Walid EL HAJJ":MAILTO:innbuilding@gmail.com
END:VEVENT
BEGIN:VEVENT
DTSTART;VALUE=DATE:20260201
DTEND;VALUE=DATE:20260202
DTSTAMP:20260420T125853
CREATED:20260128T130059Z
LAST-MODIFIED:20260128T130059Z
UID:3281-1769904000-1769990399@alivetangofromlebanon.com
SUMMARY:Salon Beyrouth Milonga 01/02/2026
DESCRIPTION:Regular Milonga organized the 1st and 3rd Sunday of each month \nFrom 7:00 pm To 12:00 am \nParticipation Fees: 10 $ \nDressing code: Smart Casual \nAddress: Salon Beyrouth\, Clemenceau \nLocation: Please click Here \nWe offer the Tango Community an outstanding music experience. DJs are carefully selected and each Milonga is a unique musical selection. The magic of this Milonga could be shared by anyone who is looking to spend a nice Sunday evening watching people dance\, listening to a romantic Waltz\, a nostalgic Tango or a playful Milonga while enjoying a meal & drinks.
URL:https://alivetangofromlebanon.com/event/salon-beyrouth-milonga-01-02-2026/
ORGANIZER;CN="Beirutango in collaboration with MKDA":MAILTO:mazenkiwan@gmail.com
END:VEVENT
BEGIN:VEVENT
DTSTART;VALUE=DATE:20260202
DTEND;VALUE=DATE:20260203
DTSTAMP:20260420T125853
CREATED:20260119T162507Z
LAST-MODIFIED:20260119T162538Z
UID:3266-1769990400-1770076799@alivetangofromlebanon.com
SUMMARY:Milonga de Los Lunes 02/02/2026
DESCRIPTION:Regular Milonga organized each Monday for 20 years non-stop \nFrom 9:15 pm To 12:00 am \nParticipation Fees: 5 $ \nAddress: TANGO CLOSET \nLocation: Please click Here
URL:https://alivetangofromlebanon.com/event/milonga-de-los-lunes-02-02-2026/
END:VEVENT
BEGIN:VEVENT
DTSTART;VALUE=DATE:20260208
DTEND;VALUE=DATE:20260209
DTSTAMP:20260420T125853
CREATED:20260203T091644Z
LAST-MODIFIED:20260203T093619Z
UID:3313-1770508800-1770595199@alivetangofromlebanon.com
SUMMARY:Tango Night Argentina Milonga 08/02/2026
DESCRIPTION:Regular Milonga organized the 2nd Sunday of each month \nFrom 7:00 pm To 1:00 am \nParticipation Fees: 10 $ \nDressing code: Elegant \nAddress: Warwick Stone 55 International Hotel\, Zeinoun Street 22343 (Calido 13th Floor) \nLocation: Please click Here
URL:https://alivetangofromlebanon.com/event/tango-night-argentina-milonga-08-02-2026/
ORGANIZER;CN="Sahar ABOU KHALIL":MAILTO:saharaboukhalil@hotmail.com
END:VEVENT
BEGIN:VEVENT
DTSTART;VALUE=DATE:20260209
DTEND;VALUE=DATE:20260210
DTSTAMP:20260420T125853
CREATED:20260119T162637Z
LAST-MODIFIED:20260119T162637Z
UID:3269-1770595200-1770681599@alivetangofromlebanon.com
SUMMARY:Milonga de Los Lunes 09/02/2026
DESCRIPTION:Regular Milonga organized each Monday for 20 years non-stop \nFrom 9:15 pm To 12:00 am \nParticipation Fees: 5 $ \nAddress: TANGO CLOSET \nLocation: Please click Here
URL:https://alivetangofromlebanon.com/event/milonga-de-los-lunes-09-02-2026/
END:VEVENT
BEGIN:VEVENT
DTSTART;VALUE=DATE:20260210
DTEND;VALUE=DATE:20260211
DTSTAMP:20260420T125853
CREATED:20260128T130306Z
LAST-MODIFIED:20260128T130306Z
UID:3285-1770681600-1770767999@alivetangofromlebanon.com
SUMMARY:Milonga Hanine (Tango Night) 10/02/2026
DESCRIPTION:Regular Milonga organized twice a month \nFrom 7:00 pm till Midnight \nParticipation Fees: 10 $ \nAddress: Hanine Beirut\, St Joseph University\, Beirut 1100 \nLocation: Please click Here \nWe’re opening the floor to warmly welcome the newest members of our tango community\, dance and connect.\nWhether you’re new or long-time dancers\, come share the embrace.
URL:https://alivetangofromlebanon.com/event/milonga-hanine-tango-night-10-02-2026/
ORGANIZER;CN="Beirutango in collaboration with MKDA":MAILTO:mazenkiwan@gmail.com
END:VEVENT
BEGIN:VEVENT
DTSTART;VALUE=DATE:20260215
DTEND;VALUE=DATE:20260216
DTSTAMP:20260420T125853
CREATED:20260128T130150Z
LAST-MODIFIED:20260128T130150Z
UID:3283-1771113600-1771199999@alivetangofromlebanon.com
SUMMARY:Salon Beyrouth Milonga 15/02/2026
DESCRIPTION:Regular Milonga organized the 1st and 3rd Sunday of each month \nFrom 7:00 pm To 12:00 am \nParticipation Fees: 10 $ \nDressing code: Smart Casual \nAddress: Salon Beyrouth\, Clemenceau \nLocation: Please click Here \nWe offer the Tango Community an outstanding music experience. DJs are carefully selected and each Milonga is a unique musical selection. The magic of this Milonga could be shared by anyone who is looking to spend a nice Sunday evening watching people dance\, listening to a romantic Waltz\, a nostalgic Tango or a playful Milonga while enjoying a meal & drinks.
URL:https://alivetangofromlebanon.com/event/salon-beyrouth-milonga-15-02-2026/
ORGANIZER;CN="Beirutango in collaboration with MKDA":MAILTO:mazenkiwan@gmail.com
END:VEVENT
BEGIN:VEVENT
DTSTART;VALUE=DATE:20260216
DTEND;VALUE=DATE:20260217
DTSTAMP:20260420T125853
CREATED:20260119T162800Z
LAST-MODIFIED:20260119T162800Z
UID:3271-1771200000-1771286399@alivetangofromlebanon.com
SUMMARY:Milonga de Los Lunes 16/02/2026
DESCRIPTION:Regular Milonga organized each Monday for 20 years non-stop \nFrom 9:15 pm To 12:00 am \nParticipation Fees: 5 $ \nAddress: TANGO CLOSET \nLocation: Please click Here
URL:https://alivetangofromlebanon.com/event/milonga-de-los-lunes-16-02-2026/
END:VEVENT
BEGIN:VEVENT
DTSTART;VALUE=DATE:20260220
DTEND;VALUE=DATE:20260221
DTSTAMP:20260420T125853
CREATED:20260131T202510Z
LAST-MODIFIED:20260131T202510Z
UID:3291-1771545600-1771631999@alivetangofromlebanon.com
SUMMARY:La Milonga Etica 20/02/2026
DESCRIPTION:Regular Milonga organized two Fridays a month \nFrom 8:30 pm To 1:30 am \nParticipation Fee: 10 $ including one drink \nAddress: Etica Beirut Aparthotel (Bauchrieh\, Zone bleue\, New Hankach street nb 3. /11) \nLocation: Please click Here
URL:https://alivetangofromlebanon.com/event/la-milonga-etica-20-02-2026/
ORGANIZER;CN="Walid EL HAJJ":MAILTO:innbuilding@gmail.com
END:VEVENT
BEGIN:VEVENT
DTSTART;VALUE=DATE:20260223
DTEND;VALUE=DATE:20260224
DTSTAMP:20260420T125853
CREATED:20260119T162853Z
LAST-MODIFIED:20260119T162853Z
UID:3273-1771804800-1771891199@alivetangofromlebanon.com
SUMMARY:Milonga de Los Lunes 23/02/2026
DESCRIPTION:Regular Milonga organized each Monday for 20 years non-stop \nFrom 9:15 pm To 12:00 am \nParticipation Fees: 5 $ \nAddress: TANGO CLOSET \nLocation: Please click Here
URL:https://alivetangofromlebanon.com/event/milonga-de-los-lunes-23-02-2026/
END:VEVENT
BEGIN:VEVENT
DTSTART;VALUE=DATE:20260224
DTEND;VALUE=DATE:20260225
DTSTAMP:20260420T125853
CREATED:20260128T130520Z
LAST-MODIFIED:20260128T130520Z
UID:3287-1771891200-1771977599@alivetangofromlebanon.com
SUMMARY:Milonga Hanine (Tango Night) 24/02/2026
DESCRIPTION:Regular Milonga organized twice a month \nFrom 7:00 pm till Midnight \nParticipation Fees: 10 $ \nAddress: Hanine Beirut\, St Joseph University\, Beirut 1100 \nLocation: Please click Here \nWe’re opening the floor to warmly welcome the newest members of our tango community\, dance and connect.\nWhether you’re new or long-time dancers\, come share the embrace.
URL:https://alivetangofromlebanon.com/event/milonga-hanine-tango-night-24-02-2026/
ORGANIZER;CN="Beirutango in collaboration with MKDA":MAILTO:mazenkiwan@gmail.com
END:VEVENT
BEGIN:VEVENT
DTSTART;VALUE=DATE:20260227
DTEND;VALUE=DATE:20260228
DTSTAMP:20260420T125853
CREATED:20260119T192927Z
LAST-MODIFIED:20260127T115018Z
UID:3276-1772150400-1772236799@alivetangofromlebanon.com
SUMMARY:LDA Milonga Night 27/02/2026
DESCRIPTION:Regular Milonga Party organized the 4th Friday of each month \nFrom 9:00 pm To 12:00 am: Milonga Party \nMilonga Party Participation Fees: 450000 LBP including water \nTDJ: Tony RIZK \nAddress: Lebanon Dance Academy (The Cosmopolitan Hotel – The Private Club – City Rama street – Dekwene) \nLocation: Please contact the organizer
URL:https://alivetangofromlebanon.com/event/lda-milonga-night-27-02-2026/
ORGANIZER;CN="Lebanon Dance Academy":MAILTO:yves.samaha@gmail.com
END:VEVENT
BEGIN:VEVENT
DTSTART;TZID=Europe/Helsinki:20260227T200000
DTEND;TZID=Europe/Helsinki:20260227T235900
DTSTAMP:20260420T125853
CREATED:20260119T154852Z
LAST-MODIFIED:20260130T092704Z
UID:3249-1772222400-1772236740@alivetangofromlebanon.com
SUMMARY:7th Beirut Tango Abrazo Marathon (1)
DESCRIPTION:Marathon Start Milonga\n(8:00 pm To 4:00 am)\nEvent organized by Alma HADDAD \n\n\n\nAddress: Saint Georges Hotel Beirut – Location: Please click Here \nFor all information and registration please visit: beirutabrazo.com
URL:https://alivetangofromlebanon.com/event/7th-beirut-tango-abrazo-marathon-1/
END:VEVENT
BEGIN:VEVENT
DTSTART;TZID=Europe/Helsinki:20260228T153000
DTEND;TZID=Europe/Helsinki:20260228T193000
DTSTAMP:20260420T125853
CREATED:20260119T155534Z
LAST-MODIFIED:20260130T093140Z
UID:3255-1772292600-1772307000@alivetangofromlebanon.com
SUMMARY:7th Beirut Tango Abrazo Marathon (2)
DESCRIPTION:Afternoon Milonga\n(3:30 pm To 7:30 pm)\nEvent organized by Alma HADDAD \n\n\n\nAddress: Saint Georges Hotel Beirut – Location: Please click Here \nFor all information and registration please visit: beirutabrazo.com
URL:https://alivetangofromlebanon.com/event/7th-beirut-tango-abrazo-marathon-2/
END:VEVENT
BEGIN:VEVENT
DTSTART;TZID=Europe/Helsinki:20260228T220000
DTEND;TZID=Europe/Helsinki:20260228T235900
DTSTAMP:20260420T125853
CREATED:20260119T155658Z
LAST-MODIFIED:20260130T092541Z
UID:3257-1772316000-1772323140@alivetangofromlebanon.com
SUMMARY:7th Beirut Tango Abrazo Marathon (3)
DESCRIPTION:Night Milonga\n(10:00 pm To 4:00 am)\nEvent organized by Alma HADDAD \n\n\n\nAddress: Saint Georges Hotel Beirut – Location: Please click Here \nFor all information and registration please visit: beirutabrazo.com
URL:https://alivetangofromlebanon.com/event/7th-beirut-tango-abrazo-marathon-3/
END:VEVENT
BEGIN:VEVENT
DTSTART;TZID=Europe/Helsinki:20260301T153000
DTEND;TZID=Europe/Helsinki:20260301T193000
DTSTAMP:20260420T125853
CREATED:20260119T155808Z
LAST-MODIFIED:20260130T092805Z
UID:3259-1772379000-1772393400@alivetangofromlebanon.com
SUMMARY:7th Beirut Tango Abrazo Marathon (4)
DESCRIPTION:Afternoon Milonga\n(3:30 pm To 7:30 pm)\nEvent organized by Alma HADDAD \n\n\n\nAddress: Saint Georges Hotel Beirut – Location: Please click Here \nFor all information and registration please visit: beirutabrazo.com
URL:https://alivetangofromlebanon.com/event/7th-beirut-tango-abrazo-marathon-4/
END:VEVENT
BEGIN:VEVENT
DTSTART;VALUE=DATE:20260302
DTEND;VALUE=DATE:20260303
DTSTAMP:20260420T125853
CREATED:20260225T054302Z
LAST-MODIFIED:20260225T054302Z
UID:3328-1772409600-1772495999@alivetangofromlebanon.com
SUMMARY:Milonga de Los Lunes 02/03/2026
DESCRIPTION:Regular Milonga organized each Monday for 20 years non-stop \nFrom 9:15 pm To 12:00 am \nParticipation Fees: 5 $ \nAddress: TANGO CLOSET \nLocation: Please click Here
URL:https://alivetangofromlebanon.com/event/milonga-de-los-lunes-02-03-2026/
END:VEVENT
BEGIN:VEVENT
DTSTART;VALUE=DATE:20260306
DTEND;VALUE=DATE:20260307
DTSTAMP:20260420T125853
CREATED:20260303T155857Z
LAST-MODIFIED:20260303T155857Z
UID:3350-1772755200-1772841599@alivetangofromlebanon.com
SUMMARY:La Milonga Etica 06/03/2026
DESCRIPTION:Regular Milonga organized two Fridays a month \nFrom 8:30 pm To 1:30 am \nParticipation Fee: 10 $ including one drink \nAddress: Etica Beirut Aparthotel (Bauchrieh\, Zone bleue\, New Hankach street nb 3. /11) \nLocation: Please click Here
URL:https://alivetangofromlebanon.com/event/la-milonga-etica-06-03-2026/
ORGANIZER;CN="Walid EL HAJJ":MAILTO:innbuilding@gmail.com
END:VEVENT
BEGIN:VEVENT
DTSTART;VALUE=DATE:20260308
DTEND;VALUE=DATE:20260309
DTSTAMP:20260420T125853
CREATED:20260225T071523Z
LAST-MODIFIED:20260225T071523Z
UID:3338-1772928000-1773014399@alivetangofromlebanon.com
SUMMARY:Salon Beyrouth Milonga 08/03/2026
DESCRIPTION:Regular Milonga organized the 1st and 3rd Sunday of each month \nFrom 7:00 pm To 12:00 am \nParticipation Fees: 10 $ \nDressing code: Smart Casual \nAddress: Salon Beyrouth\, Clemenceau \nLocation: Please click Here \nWe offer the Tango Community an outstanding music experience. DJs are carefully selected and each Milonga is a unique musical selection. The magic of this Milonga could be shared by anyone who is looking to spend a nice Sunday evening watching people dance\, listening to a romantic Waltz\, a nostalgic Tango or a playful Milonga while enjoying a meal & drinks.
URL:https://alivetangofromlebanon.com/event/salon-beyrouth-milonga-08-03-2026/
ORGANIZER;CN="Beirutango in collaboration with MKDA":MAILTO:mazenkiwan@gmail.com
END:VEVENT
BEGIN:VEVENT
DTSTART;VALUE=DATE:20260309
DTEND;VALUE=DATE:20260310
DTSTAMP:20260420T125853
CREATED:20260225T054408Z
LAST-MODIFIED:20260225T054408Z
UID:3330-1773014400-1773100799@alivetangofromlebanon.com
SUMMARY:Milonga de Los Lunes 09/03/2026
DESCRIPTION:Regular Milonga organized each Monday for 20 years non-stop \nFrom 9:15 pm To 12:00 am \nParticipation Fees: 5 $ \nAddress: TANGO CLOSET \nLocation: Please click Here
URL:https://alivetangofromlebanon.com/event/milonga-de-los-lunes-09-03-2026/
END:VEVENT
BEGIN:VEVENT
DTSTART;VALUE=DATE:20260315
DTEND;VALUE=DATE:20260316
DTSTAMP:20260420T125853
CREATED:20260227T112006Z
LAST-MODIFIED:20260227T112006Z
UID:3343-1773532800-1773619199@alivetangofromlebanon.com
SUMMARY:Tango Night Argentina Milonga 15/03/2026
DESCRIPTION:Regular Milonga organized the 2nd Sunday of each month \nFrom 7:00 pm To 1:00 am \nParticipation Fees: 10 $ \nDressing code: Elegant \nAddress: Warwick Stone 55 International Hotel\, Zeinoun Street 22343 (Calido 13th Floor) \nLocation: Please click Here
URL:https://alivetangofromlebanon.com/event/tango-night-argentina-milonga-15-03-2026/
ORGANIZER;CN="Sahar ABOU KHALIL":MAILTO:saharaboukhalil@hotmail.com
END:VEVENT
END:VCALENDAR