BEGIN:VCALENDAR
VERSION:2.0
PRODID:-//Tango &amp; Milongas in Beirut Lebanon - ECPv6.15.20//NONSGML v1.0//EN
CALSCALE:GREGORIAN
METHOD:PUBLISH
X-WR-CALNAME:Tango &amp; Milongas in Beirut Lebanon
X-ORIGINAL-URL:https://alivetangofromlebanon.com
X-WR-CALDESC:Events for Tango &amp; Milongas in Beirut Lebanon
REFRESH-INTERVAL;VALUE=DURATION:PT1H
X-Robots-Tag:noindex
X-PUBLISHED-TTL:PT1H
BEGIN:VTIMEZONE
TZID:Europe/Helsinki
BEGIN:DAYLIGHT
TZOFFSETFROM:+0200
TZOFFSETTO:+0300
TZNAME:EEST
DTSTART:20240331T010000
END:DAYLIGHT
BEGIN:STANDARD
TZOFFSETFROM:+0300
TZOFFSETTO:+0200
TZNAME:EET
DTSTART:20241027T010000
END:STANDARD
BEGIN:DAYLIGHT
TZOFFSETFROM:+0200
TZOFFSETTO:+0300
TZNAME:EEST
DTSTART:20250330T010000
END:DAYLIGHT
BEGIN:STANDARD
TZOFFSETFROM:+0300
TZOFFSETTO:+0200
TZNAME:EET
DTSTART:20251026T010000
END:STANDARD
BEGIN:DAYLIGHT
TZOFFSETFROM:+0200
TZOFFSETTO:+0300
TZNAME:EEST
DTSTART:20260329T010000
END:DAYLIGHT
BEGIN:STANDARD
TZOFFSETFROM:+0300
TZOFFSETTO:+0200
TZNAME:EET
DTSTART:20261025T010000
END:STANDARD
END:VTIMEZONE
BEGIN:VEVENT
DTSTART;VALUE=DATE:20251229
DTEND;VALUE=DATE:20251230
DTSTAMP:20260420T143827
CREATED:20251024T063710Z
LAST-MODIFIED:20251024T063710Z
UID:3059-1766966400-1767052799@alivetangofromlebanon.com
SUMMARY:Milonga de Los Lunes 29/12/2025
DESCRIPTION:Regular Milonga organized each Monday for 20 years non-stop \nFrom 9:15 pm To 12:00 am \nParticipation Fees: 300 000 LBP \nAddress: TANGO CLOSET \nLocation: Please click Here
URL:https://alivetangofromlebanon.com/event/milonga-de-los-lunes-29-12-2025/
END:VEVENT
BEGIN:VEVENT
DTSTART;VALUE=DATE:20251228
DTEND;VALUE=DATE:20251229
DTSTAMP:20260420T143827
CREATED:20251210T092145Z
LAST-MODIFIED:20251210T092145Z
UID:3152-1766880000-1766966399@alivetangofromlebanon.com
SUMMARY:Tango Workshop with Tanya Gutierrez and Sebastian Avendaño (28/12/2025)
DESCRIPTION:Event organized by Carine ISSA\n\n\n\nThe workshop will take place at TANGO CLOSET – Location: Please click Here\n\n\n\nFor registration and all information\, please contact +961 3 766 095
URL:https://alivetangofromlebanon.com/event/tango-workshop-with-tanya-gutierrez-and-sebastian-avendano-28-12-2025/
END:VEVENT
BEGIN:VEVENT
DTSTART;VALUE=DATE:20251227
DTEND;VALUE=DATE:20251228
DTSTAMP:20260420T143827
CREATED:20251210T092032Z
LAST-MODIFIED:20251210T092032Z
UID:3150-1766793600-1766879999@alivetangofromlebanon.com
SUMMARY:Tango Workshop with Tanya Gutierrez and Sebastian Avendaño (27/12/2025)
DESCRIPTION:Event organized by Carine ISSA\n\n \n\nThe workshop will take place at TANGO CLOSET – Location: Please click Here\n\n \n\nFor registration and all information\, please contact +961 3 766 095
URL:https://alivetangofromlebanon.com/event/tango-workshop-with-tanya-gutierrez-and-sebastian-avendano-27-12-2025/
END:VEVENT
BEGIN:VEVENT
DTSTART;VALUE=DATE:20251226
DTEND;VALUE=DATE:20251227
DTSTAMP:20260420T143827
CREATED:20251210T105912Z
LAST-MODIFIED:20251210T110210Z
UID:3155-1766707200-1766793599@alivetangofromlebanon.com
SUMMARY:Holiday Season's Milonga 26/12/2025
DESCRIPTION:Special Guests: Tanya & Sebastian \nStarting 9:00 pm \nParticipation Fee: 10$ \nAddress: Star Dance Academy (Dbayeh) \nLocation: Please click Here
URL:https://alivetangofromlebanon.com/event/holiday-seasons-milonga-26-12-2025/
END:VEVENT
BEGIN:VEVENT
DTSTART;VALUE=DATE:20251226
DTEND;VALUE=DATE:20251227
DTSTAMP:20260420T143827
CREATED:20251024T065818Z
LAST-MODIFIED:20251028T180823Z
UID:3074-1766707200-1766793599@alivetangofromlebanon.com
SUMMARY:Milonga Night 26/12/2025
DESCRIPTION:Regular Milonga Party organized the 4th Friday of each month \nFrom 9:00 pm To 12:00 am: Milonga Party \nMilonga Party Participation Fees: 450000 LBP including water \nTDJ: Tony RIZK \nAddress: Lebanon Dance Academy (The Cosmopolitan Hotel – The Private Club – City Rama street – Dekwene) \nLocation: Please contact the organizer
URL:https://alivetangofromlebanon.com/event/milonga-night-26-12-2025/
ORGANIZER;CN="Lebanon Dance Academy":MAILTO:yves.samaha@gmail.com
END:VEVENT
BEGIN:VEVENT
DTSTART;VALUE=DATE:20251222
DTEND;VALUE=DATE:20251223
DTSTAMP:20260420T143827
CREATED:20251024T063551Z
LAST-MODIFIED:20251024T063551Z
UID:3056-1766361600-1766447999@alivetangofromlebanon.com
SUMMARY:Milonga de Los Lunes 22/12/2025
DESCRIPTION:Regular Milonga organized each Monday for 20 years non-stop \nFrom 9:15 pm To 12:00 am \nParticipation Fees: 300 000 LBP \nAddress: TANGO CLOSET \nLocation: Please click Here
URL:https://alivetangofromlebanon.com/event/milonga-de-los-lunes-22-12-2025/
END:VEVENT
BEGIN:VEVENT
DTSTART;VALUE=DATE:20251221
DTEND;VALUE=DATE:20251222
DTSTAMP:20260420T143827
CREATED:20251204T173257Z
LAST-MODIFIED:20251210T115326Z
UID:3129-1766275200-1766361599@alivetangofromlebanon.com
SUMMARY:Milonga Hanine (Tango Night) 21/12/2025
DESCRIPTION:Regular Milonga organized twice a month \nFrom 7:00 pm till Midnight \nParticipation Fees: 10 $ \nAddress: Hanine Beirut\, St Joseph University\, Beirut 1100 \nLocation: Please click Here \nWe’re opening the floor to warmly welcome the newest members of our tango community\, dance and connect.\nWhether you’re new or long-time dancers\, come share the embrace.
URL:https://alivetangofromlebanon.com/event/milonga-hanine-21-12-2025/
ORGANIZER;CN="Beirutango in collaboration with MKDA":MAILTO:mazenkiwan@gmail.com
END:VEVENT
BEGIN:VEVENT
DTSTART;VALUE=DATE:20251215
DTEND;VALUE=DATE:20251216
DTSTAMP:20260420T143827
CREATED:20251024T062156Z
LAST-MODIFIED:20251024T063605Z
UID:3054-1765756800-1765843199@alivetangofromlebanon.com
SUMMARY:Milonga de Los Lunes 15/12/2025
DESCRIPTION:Regular Milonga organized each Monday for 20 years non-stop \nFrom 9:15 pm To 12:00 am \nParticipation Fees: 300 000 LBP \nAddress: TANGO CLOSET \nLocation: Please click Here
URL:https://alivetangofromlebanon.com/event/milonga-de-los-lunes-15-12-2025/
END:VEVENT
BEGIN:VEVENT
DTSTART;VALUE=DATE:20251214
DTEND;VALUE=DATE:20251215
DTSTAMP:20260420T143827
CREATED:20251204T173039Z
LAST-MODIFIED:20251210T115243Z
UID:3126-1765670400-1765756799@alivetangofromlebanon.com
SUMMARY:Milonga Hanine (Tango Night) 14/12/2025
DESCRIPTION:Regular Milonga organized twice a month \nFrom 7:00 pm till Midnight \nParticipation Fees: 10 $ \nAddress: Hanine Beirut\, St Joseph University\, Beirut 1100 \nLocation: Please click Here \nWe’re opening the floor to warmly welcome the newest members of our tango community\, dance and connect.\nWhether you’re new or long-time dancers\, come share the embrace.
URL:https://alivetangofromlebanon.com/event/milonga-hanine-14-12-2025/
ORGANIZER;CN="Beirutango in collaboration with MKDA":MAILTO:mazenkiwan@gmail.com
END:VEVENT
BEGIN:VEVENT
DTSTART;VALUE=DATE:20251212
DTEND;VALUE=DATE:20251213
DTSTAMP:20260420T143827
CREATED:20251204T173428Z
LAST-MODIFIED:20251204T173428Z
UID:3133-1765497600-1765583999@alivetangofromlebanon.com
SUMMARY:La Milonga Etica 12/12/2025
DESCRIPTION:Regular Milonga organized two Fridays a month \nFrom 8:30 pm To 1:30 am \nParticipation Fee: 10 $ including one drink \nAddress: Etica Beirut Aparthotel (Bauchrieh\, Zone bleue\, New Hankach street nb 3. /11) \nLocation: Please click Here
URL:https://alivetangofromlebanon.com/event/la-milonga-etica-12-12-2025/
ORGANIZER;CN="Walid EL HAJJ":MAILTO:innbuilding@gmail.com
END:VEVENT
BEGIN:VEVENT
DTSTART;VALUE=DATE:20251211
DTEND;VALUE=DATE:20251212
DTSTAMP:20260420T143827
CREATED:20251201T191519Z
LAST-MODIFIED:20251201T191519Z
UID:3121-1765411200-1765497599@alivetangofromlebanon.com
SUMMARY:Milonga La Mirada 11/12/2025
DESCRIPTION:Regular Milonga organized once a month \nMilonga: From 8:30 pm To 12:00 am \nParticipation Fee Milonga: 10$ (including one regular drink) \nAddress: Abajour\, Karam Rahal street – Adlieh\, Beirut \nLocation: Please click Here
URL:https://alivetangofromlebanon.com/event/milonga-la-mirada-11-12-2025/
END:VEVENT
BEGIN:VEVENT
DTSTART;VALUE=DATE:20251208
DTEND;VALUE=DATE:20251209
DTSTAMP:20260420T143827
CREATED:20251024T062054Z
LAST-MODIFIED:20251024T064712Z
UID:3052-1765152000-1765238399@alivetangofromlebanon.com
SUMMARY:Milonga de Los Lunes 08/12/2025
DESCRIPTION:Regular Milonga organized each Monday for 20 years non-stop \nFrom 9:15 pm To 12:00 am \nParticipation Fees: 300 000 LBP \nAddress: TANGO CLOSET \nLocation: Please click Here
URL:https://alivetangofromlebanon.com/event/milonga-de-los-lunes-08-12-2025/
END:VEVENT
BEGIN:VEVENT
DTSTART;VALUE=DATE:20251207
DTEND;VALUE=DATE:20251208
DTSTAMP:20260420T143827
CREATED:20251024T065215Z
LAST-MODIFIED:20251024T065215Z
UID:3061-1765065600-1765151999@alivetangofromlebanon.com
SUMMARY:Salon Beyrouth Milonga 07/12/2025
DESCRIPTION:Regular Milonga organized the 1st and 3rd Sunday of each month \nFrom 7:00 pm To 12:00 am \nParticipation Fees: 10 $ \nDressing code: Smart Casual \nAddress: Salon Beyrouth\, Clemenceau \nLocation: Please click Here \nWe offer the Tango Community an outstanding music experience. DJs are carefully selected and each Milonga is a unique musical selection. The magic of this Milonga could be shared by anyone who is looking to spend a nice Sunday evening watching people dance\, listening to a romantic Waltz\, a nostalgic Tango or a playful Milonga while enjoying a meal & drinks.
URL:https://alivetangofromlebanon.com/event/salon-beyrouth-milonga-07-12-2025/
ORGANIZER;CN="Beirutango in collaboration with MKDA":MAILTO:mazenkiwan@gmail.com
END:VEVENT
BEGIN:VEVENT
DTSTART;VALUE=DATE:20251201
DTEND;VALUE=DATE:20251202
DTSTAMP:20260420T143827
CREATED:20251024T061807Z
LAST-MODIFIED:20251024T064615Z
UID:3050-1764547200-1764633599@alivetangofromlebanon.com
SUMMARY:Milonga de Los Lunes 01/12/2025
DESCRIPTION:Regular Milonga organized each Monday for 20 years non-stop \nFrom 9:15 pm To 12:00 am \nParticipation Fees: 300 000 LBP \nAddress: TANGO CLOSET \nLocation: Please click Here
URL:https://alivetangofromlebanon.com/event/milonga-de-los-lunes-01-12-2025/
END:VEVENT
BEGIN:VEVENT
DTSTART;VALUE=DATE:20251128
DTEND;VALUE=DATE:20251129
DTSTAMP:20260420T143827
CREATED:20251024T065604Z
LAST-MODIFIED:20251028T180902Z
UID:3069-1764288000-1764374399@alivetangofromlebanon.com
SUMMARY:Milonga Night 28/11/2025
DESCRIPTION:Regular Milonga Party organized the 4th Friday of each month \nFrom 9:00 pm To 12:00 am: Milonga Party \nMilonga Party Participation Fees: 450000 LBP including water \nTDJ: Tony RIZK \nAddress: Lebanon Dance Academy (The Cosmopolitan Hotel – The Private Club – City Rama street – Dekwene) \nLocation: Please contact the organizer
URL:https://alivetangofromlebanon.com/event/milonga-night-28-11-2025/
ORGANIZER;CN="Lebanon Dance Academy":MAILTO:yves.samaha@gmail.com
END:VEVENT
BEGIN:VEVENT
DTSTART;VALUE=DATE:20251125
DTEND;VALUE=DATE:20251126
DTSTAMP:20260420T143827
CREATED:20251030T130207Z
LAST-MODIFIED:20251030T130207Z
UID:3116-1764028800-1764115199@alivetangofromlebanon.com
SUMMARY:Practilonga Hanine 25/11/2025
DESCRIPTION:Regular Practica organized two Tuesdays a month \nFrom 8:30 pm To 1:00 am \nParticipation Fees: 10 $ \nAddress: Hanine Beirut\, St Joseph University\, Beirut 1100 \nLocation: Please click Here \nWe’re opening the floor to warmly welcome the newest members of our tango community\, dance and connect.\nWhether you’re new or long-time dancers\, come share the embrace.
URL:https://alivetangofromlebanon.com/event/practilonga-hanine-25-11-2025/
ORGANIZER;CN="Beirutango in collaboration with MKDA":MAILTO:mazenkiwan@gmail.com
END:VEVENT
BEGIN:VEVENT
DTSTART;VALUE=DATE:20251124
DTEND;VALUE=DATE:20251125
DTSTAMP:20260420T143827
CREATED:20251024T061633Z
LAST-MODIFIED:20251024T061633Z
UID:3048-1763942400-1764028799@alivetangofromlebanon.com
SUMMARY:Milonga de Los Lunes 24/11/2025
DESCRIPTION:Regular Milonga organized each Monday for 19 years non-stop \nFrom 9:15 pm To 12:00 am \nParticipation Fees: 300 000 LBP \nAddress: TANGO CLOSET \nLocation: Please click Here
URL:https://alivetangofromlebanon.com/event/milonga-de-los-lunes-24-11-2025/
END:VEVENT
BEGIN:VEVENT
DTSTART;VALUE=DATE:20251123
DTEND;VALUE=DATE:20251124
DTSTAMP:20260420T143827
CREATED:20251030T120808Z
LAST-MODIFIED:20251030T120846Z
UID:3109-1763856000-1763942399@alivetangofromlebanon.com
SUMMARY:Tango Weekend: A. Molina & N. Lockwood (23/11/2025)
DESCRIPTION:Event organized by Jihane MATAR and Karim SAFI \nFor registration and all information\, please click Here   \n  \n\nSchedule Sunday 23/11/2025 \n3:30pm – 5:00pm: First part: A glimpse of our vision of tango! How to lead and follow \n5:30 pm – 7:00pm: Second part: Our favorite steps! 2025 Edition!   \n 
URL:https://alivetangofromlebanon.com/event/tango-weekend-a-molina-n-lockwood-23-11-2025/
END:VEVENT
BEGIN:VEVENT
DTSTART;VALUE=DATE:20251122
DTEND;VALUE=DATE:20251123
DTSTAMP:20260420T143827
CREATED:20251030T120523Z
LAST-MODIFIED:20251030T121004Z
UID:3106-1763769600-1763855999@alivetangofromlebanon.com
SUMMARY:Tango Weekend: A. Molina & N. Lockwood (22/11/2025)
DESCRIPTION:Event organized by Jihane MATAR and Karim SAFI \nFor registration and all information\, please click Here   \n\n  \nSchedule Saturday 22/11/2025 \n3:30pm – 4:45pm: Dancing the Unexpected! Inspire and Get Inspired! Improvisation! (Intermediate-Advanced) \n5:15pm – 6:30pm: Musicality and Quality of movement. (Intermediate-Advanced) \n10:00pm: Milonga & Special Performance   \n 
URL:https://alivetangofromlebanon.com/event/tango-weekend-a-molina-n-lockwood-22-11-2025/
END:VEVENT
BEGIN:VEVENT
DTSTART;VALUE=DATE:20251121
DTEND;VALUE=DATE:20251122
DTSTAMP:20260420T143827
CREATED:20251030T115746Z
LAST-MODIFIED:20251030T120134Z
UID:3102-1763683200-1763769599@alivetangofromlebanon.com
SUMMARY:Tango Weekend: A. Molina & N. Lockwood (21/11/2025)
DESCRIPTION:Event organized by Jihane MATAR and Karim SAFI \nFor registration and all information\, please click Here \n  \n\nSchedule Friday 21/11/2025 \n6:30pm – 7:45pm: Ladies Technique \n8:00pm – 9:30pm: Milonga Traspié. Move your booty! (Intermediate-Advanced) \n 
URL:https://alivetangofromlebanon.com/event/tango-weekend-a-molina-n-lockwood-21-11-2025/
END:VEVENT
BEGIN:VEVENT
DTSTART;VALUE=DATE:20251121
DTEND;VALUE=DATE:20251122
DTSTAMP:20260420T143827
CREATED:20251030T112911Z
LAST-MODIFIED:20251030T112911Z
UID:3100-1763683200-1763769599@alivetangofromlebanon.com
SUMMARY:La Milonga Etica 21/11/2025
DESCRIPTION:Regular Milonga organized two Fridays a month \nFrom 8:30 pm To 1:30 am \nParticipation Fee: 10 $ including one drink \nAddress: Etica Beirut Aparthotel (Bauchrieh\, Zone bleue\, New Hankach street nb 3. /11) \nLocation: Please click Here
URL:https://alivetangofromlebanon.com/event/la-milonga-etica-21-11-2025/
ORGANIZER;CN="Walid EL HAJJ":MAILTO:innbuilding@gmail.com
END:VEVENT
BEGIN:VEVENT
DTSTART;VALUE=DATE:20251117
DTEND;VALUE=DATE:20251118
DTSTAMP:20260420T143827
CREATED:20251024T061527Z
LAST-MODIFIED:20251024T061527Z
UID:3046-1763337600-1763423999@alivetangofromlebanon.com
SUMMARY:Milonga de Los Lunes 17/11/2025
DESCRIPTION:Regular Milonga organized each Monday for 19 years non-stop \nFrom 9:15 pm To 12:00 am \nParticipation Fees: 300 000 LBP \nAddress: TANGO CLOSET \nLocation: Please click Here
URL:https://alivetangofromlebanon.com/event/milonga-de-los-lunes-17-11-2025/
END:VEVENT
BEGIN:VEVENT
DTSTART;VALUE=DATE:20251116
DTEND;VALUE=DATE:20251117
DTSTAMP:20260420T143827
CREATED:20251024T061200Z
LAST-MODIFIED:20251024T061200Z
UID:3039-1763251200-1763337599@alivetangofromlebanon.com
SUMMARY:Salon Beyrouth Milonga 16/11/2025
DESCRIPTION:Regular Milonga organized the 1st and 3rd Sunday of each month \nFrom 7:00 pm To 12:00 am \nParticipation Fees: 10 $ \nDressing code: Smart Casual \nAddress: Salon Beyrouth\, Clemenceau \nLocation: Please click Here \nWe offer the Tango Community an outstanding music experience. DJs are carefully selected and each Milonga is a unique musical selection. The magic of this Milonga could be shared by anyone who is looking to spend a nice Sunday evening watching people dance\, listening to a romantic Waltz\, a nostalgic Tango or a playful Milonga while enjoying a meal & drinks.
URL:https://alivetangofromlebanon.com/event/salon-beyrouth-milonga-16-11-2025/
ORGANIZER;CN="Beirutango in collaboration with MKDA":MAILTO:mazenkiwan@gmail.com
END:VEVENT
BEGIN:VEVENT
DTSTART;VALUE=DATE:20251113
DTEND;VALUE=DATE:20251114
DTSTAMP:20260420T143827
CREATED:20251025T155606Z
LAST-MODIFIED:20251030T125722Z
UID:3082-1762992000-1763078399@alivetangofromlebanon.com
SUMMARY:Milonga La Mirada 13/11/2025
DESCRIPTION:Regular Milonga organized once a month \nMilonga: From 8:30 pm To 12:00 am \nParticipation Fee Milonga: 10$ (including one regular drink) \nAddress: Abajour\, Karam Rahal street – Adlieh\, Beirut \nLocation: Please click Here
URL:https://alivetangofromlebanon.com/event/milonga-la-mirada-13-11-2025/
END:VEVENT
BEGIN:VEVENT
DTSTART;VALUE=DATE:20251111
DTEND;VALUE=DATE:20251112
DTSTAMP:20260420T143827
CREATED:20251030T130054Z
LAST-MODIFIED:20251030T130054Z
UID:3114-1762819200-1762905599@alivetangofromlebanon.com
SUMMARY:Practilonga Hanine 11/11/2025
DESCRIPTION:Regular Practica organized two Tuesdays a month \nFrom 8:30 pm To 1:00 am \nParticipation Fees: 10 $ \nAddress: Hanine Beirut\, St Joseph University\, Beirut 1100 \nLocation: Please click Here \nWe’re opening the floor to warmly welcome the newest members of our tango community\, dance and connect.\nWhether you’re new or long-time dancers\, come share the embrace.
URL:https://alivetangofromlebanon.com/event/practilonga-hanine-11-11-2025/
ORGANIZER;CN="Beirutango in collaboration with MKDA":MAILTO:mazenkiwan@gmail.com
END:VEVENT
BEGIN:VEVENT
DTSTART;VALUE=DATE:20251110
DTEND;VALUE=DATE:20251111
DTSTAMP:20260420T143827
CREATED:20251024T061443Z
LAST-MODIFIED:20251024T061443Z
UID:3044-1762732800-1762819199@alivetangofromlebanon.com
SUMMARY:Milonga de Los Lunes 10/11/2025
DESCRIPTION:Regular Milonga organized each Monday for 19 years non-stop \nFrom 9:15 pm To 12:00 am \nParticipation Fees: 300 000 LBP \nAddress: TANGO CLOSET \nLocation: Please click Here
URL:https://alivetangofromlebanon.com/event/milonga-de-los-lunes-10-11-2025/
END:VEVENT
BEGIN:VEVENT
DTSTART;VALUE=DATE:20251107
DTEND;VALUE=DATE:20251108
DTSTAMP:20260420T143827
CREATED:20251030T112801Z
LAST-MODIFIED:20251030T112801Z
UID:3098-1762473600-1762559999@alivetangofromlebanon.com
SUMMARY:La Milonga Etica 07/11/2025
DESCRIPTION:Regular Milonga organized two Fridays a month \nFrom 8:30 pm To 1:30 am \nParticipation Fee: 10 $ including one drink \nAddress: Etica Beirut Aparthotel (Bauchrieh\, Zone bleue\, New Hankach street nb 3. /11) \nLocation: Please click Here
URL:https://alivetangofromlebanon.com/event/la-milonga-etica-07-11-2025/
ORGANIZER;CN="Walid EL HAJJ":MAILTO:innbuilding@gmail.com
END:VEVENT
BEGIN:VEVENT
DTSTART;VALUE=DATE:20251103
DTEND;VALUE=DATE:20251104
DTSTAMP:20260420T143827
CREATED:20251024T061353Z
LAST-MODIFIED:20251024T061353Z
UID:3042-1762128000-1762214399@alivetangofromlebanon.com
SUMMARY:Milonga de Los Lunes 03/11/2025
DESCRIPTION:Regular Milonga organized each Monday for 19 years non-stop \nFrom 9:15 pm To 12:00 am \nParticipation Fees: 300 000 LBP \nAddress: TANGO CLOSET \nLocation: Please click Here
URL:https://alivetangofromlebanon.com/event/milonga-de-los-lunes-03-11-2025/
END:VEVENT
BEGIN:VEVENT
DTSTART;VALUE=DATE:20251102
DTEND;VALUE=DATE:20251103
DTSTAMP:20260420T143827
CREATED:20251024T061111Z
LAST-MODIFIED:20251024T061111Z
UID:3036-1762041600-1762127999@alivetangofromlebanon.com
SUMMARY:Salon Beyrouth Milonga 02/11/2025
DESCRIPTION:Regular Milonga organized the 1st and 3rd Sunday of each month \nFrom 7:00 pm To 12:00 am \nParticipation Fees: 10 $ \nDressing code: Smart Casual \nAddress: Salon Beyrouth\, Clemenceau \nLocation: Please click Here \nWe offer the Tango Community an outstanding music experience. DJs are carefully selected and each Milonga is a unique musical selection. The magic of this Milonga could be shared by anyone who is looking to spend a nice Sunday evening watching people dance\, listening to a romantic Waltz\, a nostalgic Tango or a playful Milonga while enjoying a meal & drinks.
URL:https://alivetangofromlebanon.com/event/salon-beyrouth-milonga-02-11-2025/
ORGANIZER;CN="Beirutango in collaboration with MKDA":MAILTO:mazenkiwan@gmail.com
END:VEVENT
BEGIN:VEVENT
DTSTART;VALUE=DATE:20251028
DTEND;VALUE=DATE:20251029
DTSTAMP:20260420T143827
CREATED:20251027T064102Z
LAST-MODIFIED:20251027T064102Z
UID:3084-1761609600-1761695999@alivetangofromlebanon.com
SUMMARY:Practilonga Hanine 28/10/2025
DESCRIPTION:Regular Milonga organized twice a month on Tuesday \nFrom 8:30 pm To 1:00 am \nParticipation Fees: 10 $ \nAddress: Hanine Beirut\, St Joseph University\, Beirut 1100 \nLocation: Please click Here \nWe’re opening the floor to warmly welcome the newest members of our tango community\, dance and connect.\nWhether you’re new or long-time dancers\, come share the embrace.
URL:https://alivetangofromlebanon.com/event/practilonga-hanine-28-10-2025/
ORGANIZER;CN="Beirutango in collaboration with MKDA":MAILTO:mazenkiwan@gmail.com
END:VEVENT
END:VCALENDAR